BEGIN:VCALENDAR
VERSION:2.0
PRODID:-//Proxima Prova - ECPv6.15.13.1//NONSGML v1.0//EN
CALSCALE:GREGORIAN
METHOD:PUBLISH
X-ORIGINAL-URL:https://proximaprova.com.br
X-WR-CALDESC:Eventos para Proxima Prova
REFRESH-INTERVAL;VALUE=DURATION:PT1H
X-Robots-Tag:noindex
X-PUBLISHED-TTL:PT1H
BEGIN:VTIMEZONE
TZID:America/Sao_Paulo
BEGIN:STANDARD
TZOFFSETFROM:-0300
TZOFFSETTO:-0300
TZNAME:-03
DTSTART:20210101T000000
END:STANDARD
END:VTIMEZONE
BEGIN:VEVENT
DTSTART;TZID=America/Sao_Paulo:20221016T070000
DTEND;TZID=America/Sao_Paulo:20221016T070000
DTSTAMP:20260426T013903
CREATED:20220607T220557Z
LAST-MODIFIED:20221013T235935Z
UID:20219-1665903600-1665903600@proximaprova.com.br
SUMMARY:Desafio Twitter MTB - 2ª Etapa
DESCRIPTION:–> Lista de Inscritos <– \n>>> INSCRIÇÃO ENCERRADAS << \nVem ai a 2ª etapa do DESAFIO TWITTER DE MTB 2022\, dessa vez o desafio\nacontecerá nas montanhas da cidade de Campo Limpo Paulista – SP\, no dia 16/10\, essa\netapa além de estar ainda mais desafiadora vem com muitas novidades\, entre elas\,\ncategoria dupla e percurso turismo\, não fique de fora\, venha encarar este Desafio. \nInstagram:\n@desafiotwitter – Siga e fique por dentro de todas as informações relacionadas ao\nevento.\n@twitterbikeoficial – Perfil oficial da Twitter Bikes. \nValores das Inscrições:\nPCD: R$60\nTodas as Categorias Feminina: R$100\nDemais Categorias: R$120 \nLocal do Evento:\nPau Arcado – Campo Limpo Paulista\n(Endereço completo em Breve) \nModalidade:\nXCM – MARATONA \nPERCURSO:\nTURISMO: 20 km Elevação 540\nSPORT: 31km Elevação 1.100\nPRO: 52km Elevação 1.450 \nCategorias \n\nMasculino Pró\nSub 25 (18 até 24 anos)\nSub 30 (25 até 29 anos)\nSub 35 (30 até 34 anos)\nSub 40 (35 até 39 anos)\nSub 45 (40 até 44 anos)\nSub 50 (45 até 49 anos)\nSub 55 (50 até 54 anos) \nFeminino Pró\nPró Feminino – Idade Livre \nDupla Pró (Masculino)\nDupla Pró (Misto) \n\nMasculino Sport\nPCD (Livre)\nJunior (12 até 18 anos)\nSub 25 (19 até 24 anos)\nSub 30 (25 até 29 anos)\nSub 35 (30 até 34 anos)\nSub 40 (35 até 39 anos)\nSub 45 (40 até 44 anos)\nSub 50 (45 até 49 anos)\nSub 55 (50 até 54 anos)\nOver 55 \nFeminino Sport\nSub 30 (14 até 29)\nOver 30 (30 +) \nDupla Masculina Sport (Idade Livre)\nDupla Mista Sport (Idade Livre) \nGravel Masculino (Idade Livre) Percurso Sport\nGravel Feminino (Idade Livre) Percurso Sport\nTurismo (Percurso Reduzido) \nSub 30 Masc Turismo (12 até 29)\nSub 50 Masc Turismo (30 até 49)\nOver 50 Masc Turismo (50 +)\nSub 30 Fem Turismo (14 até 29)\nOver 30 Fem Turismo (30 +) \nSeguro Atleta\nTodos os atletas que participarem do evento estarão cobertos pelo seguro atleta que\nfoi contratado pela organização. \nPremiação da Etapa\nOs cinco (5) primeiros colocados de cada categoria serão premiados com troféus e\ntodos os participantes receberão medalha de participação. \nPremiação do Campeonato:\n(Premiação aos líderes gerais das categorias Sport e Pro\, por somatória de pontos ao\nfinal da 3ª etapa) \nPRÓ (MASC / FEM)\n1º COLOCADO: R$ 700\n2º COLOCADO: R$ 500\n3º COLOCADO: R$300\n4º COLOCADO: R$250\n5º COLOCADO: R$100 \nSPORT (MASC / FEM)\n1º COLOCADO: R$ 400\n2º COLOCADO: R$ 300\n3º COLOCADO: R$200\n4º COLOCADO: R$100\n5º COLOCADO: R$80 \nCategoria PCD: Em breve\nCategoria Junior: Em breve\nCategoria Duplas: Em breve \nA pontuação será definida da seguinte forma:\n1º colocado – 17 pontos.\n2º colcoado – 15 pontos\n3º colcoado – 13 pontos\n4º colcoado – 11 pontos\n5º colcoado – 9 pontos\n6º colcoado – 7 pontos\n7º colcoado – 5 pontos\n8º colcoado – 3 pontos\n9º colcoado – 2 pontos\n10º colcoado – 1 ponto \nHavendo empate na pontuação na última etapa o critério de desempate será a melhor\nposição na última etapa do campeonato. \nProgramação\n07:00 – Entrega dos kits\n08:30 – Alinhamento de todas as categorias\n08:45 – Largada Pro\n09:00 – Largada Sport\n13:00 – Inicio da premiação\n15:00 – Encerramento do evento. \nResponsabilidade Social\nAdicionalmente ao valor da inscrição\, pedimos que todos os inscritos doem 1 quilo de\nalimento que será destinado a uma das instituições da região.\nConfira o que rolou na 1ª etapa do Desafio Twitter de MTB em Jarinu – SP\, veja\nfotos\, ranking\, resultados e muito mais\, no site do evento:\nwww.desafiotwitter.com.br
URL:https://proximaprova.com.br/evento/desafio-twitter-mtb-2a-etapa/
LOCATION:Pau Arcado – Campo Limpo Paulista\, Pau Arcado\, Campo Limpo Paulista\, São Paulo\, Brasil
ATTACH;FMTTYPE=image/jpeg:https://proximaprova.com.br/wp-content/uploads/2022/06/Banner-2.jpeg
END:VEVENT
END:VCALENDAR