BEGIN:VCALENDAR
VERSION:2.0
PRODID:-//Proxima Prova - ECPv6.15.13.1//NONSGML v1.0//EN
CALSCALE:GREGORIAN
METHOD:PUBLISH
X-ORIGINAL-URL:https://proximaprova.com.br
X-WR-CALDESC:Eventos para Proxima Prova
REFRESH-INTERVAL;VALUE=DURATION:PT1H
X-Robots-Tag:noindex
X-PUBLISHED-TTL:PT1H
BEGIN:VTIMEZONE
TZID:America/Sao_Paulo
BEGIN:STANDARD
TZOFFSETFROM:-0300
TZOFFSETTO:-0300
TZNAME:-03
DTSTART:20210101T000000
END:STANDARD
END:VTIMEZONE
BEGIN:VEVENT
DTSTART;TZID=America/Sao_Paulo:20221023T055000
DTEND;TZID=America/Sao_Paulo:20221023T150000
DTSTAMP:20260426T013903
CREATED:20220701T121759Z
LAST-MODIFIED:20221018T180438Z
UID:20335-1666504200-1666537200@proximaprova.com.br
SUMMARY:Circuito MDP 2022
DESCRIPTION:–> LISTA PARCIAL DE INSCRITOS <– \n>>> INSCRIÇÕES ENCERRADAS <<< \nTradicional em Cotia – SP por ter a região com altos índices de elevação e trajetos fantásticos o Circuito MDP está de volta. Organizada por um grupo extenso de colegas denominada Malucos do Pedal sem fins lucrativos que conhecem bem a região\, prometem exigir o máximo dos atletas que participarem da prova. Além desses fatores a cidade conta com 7km de trilha preservada o famoso Verde 1\, marca registra do Circuito MDP. \nCircuito MDP – De atletas para atletas. \nMDP – Malucos do Pedal. \n\nData Evento \n\n23/10/2022 \n\nModalidade \n\nXCM – MARATONA \n\nLocal \n\nR. Represinha\, 4100 – Q.ta dos Angicos\, Cotia – SP\, 06717-500 – Chácara dos Leões \n\nCategorias Percurso Reduzido: 23 km – 702 de elevação \n\nMasculino \n\nPCD (Livre)\nJunior (12 até 17 anos)\n\nFeminino: \n\nJunior (12 até 17 anos)\nSub 30 (14 até 29)\nSub 35 (30 até 34)\nOver (35 +)\n\nGeral – Feminino (saída automática da categoria) \n\nPremiação Percurso Reduzido \n\n1° R$300\,00 _ via PIX\n2° R$200\,00 _ via PIX\n3° R$100\,00 _ via PIX\n4° R$ 50\,00 _ via PIX\n5° R$ 50\,00 _ via PIX \nObs: premiação em valores não inclui a categoria júnior (masculino e feminino) e PCD \n\nCategorias Circuito PRO – 45 km – 1300 de elevação \n\nMasculino \n\nSub 25 (18 até 24 anos)\nSub 30 (25 até 29 anos)\nSub 35 (30 até 34 anos)\nSub 40 (35 até 39 anos)\nSub 45 (40 até 44 anos)\nSub 50 (45 até 49 anos)\nSub 55 (50 até 54 anos)\nSub 60 (55 até 59 anos)\nOver 60 +\nGeral – Masculino (saída automática da categoria)\n\n\nPremiação da PRO \n\n1° R$300\,00 _ via PIX\n2° R$200\,00 _ via PIX\n3° R$100\,00 _ via PIX\n4° R$ 50\,00 _ via PIX\n5° R$ 50\,00 _ via PIX \nPremiação em dinheiro + troféu para os 5 primeiros na GERAL (Feminino e Masculino) percurso completo e troféu para os 5 primeiros de cada categoria medalha de finisher para todos que concluírem. \nObs: premiação em valores não inclui a categoria júnior (masculino e feminino) \n\nValor da Inscrição \n\n1º lote 79\,90 – até dia 01/10/2022\n2º lote 119\,90- até dia 20/10/2022 \n\nProgramação \n\n• 05:50 – Entrega dos kits\n• 07:50 – Alinhamento de todas as categorias\n• 08:00– Largada completo\n• 08:15– Largada reduzido\n• 13:00 – Início da premiação\n• 15:00 – Encerramento do evento
URL:https://proximaprova.com.br/evento/circuito-mdp-2022/
LOCATION:R. Represinha\, 4100 – Q.ta dos Angicos\, R. Represinha\, 4100 - Q.ta dos Angicos\, Cotia\, São Paulo\, 06717-500\, Brasil
ATTACH;FMTTYPE=image/jpeg:https://proximaprova.com.br/wp-content/uploads/2022/07/LOGO-MDP.jpeg
END:VEVENT
END:VCALENDAR