BEGIN:VCALENDAR
VERSION:2.0
PRODID:-//Proxima Prova - ECPv6.15.13.1//NONSGML v1.0//EN
CALSCALE:GREGORIAN
METHOD:PUBLISH
X-WR-CALNAME:Proxima Prova
X-ORIGINAL-URL:https://proximaprova.com.br
X-WR-CALDESC:Eventos para Proxima Prova
REFRESH-INTERVAL;VALUE=DURATION:PT1H
X-Robots-Tag:noindex
X-PUBLISHED-TTL:PT1H
BEGIN:VTIMEZONE
TZID:America/Sao_Paulo
BEGIN:STANDARD
TZOFFSETFROM:-0300
TZOFFSETTO:-0300
TZNAME:-03
DTSTART:20210101T000000
END:STANDARD
END:VTIMEZONE
BEGIN:VEVENT
DTSTART;TZID=America/Sao_Paulo:20221106T070000
DTEND;TZID=America/Sao_Paulo:20221106T140000
DTSTAMP:20260426T000546
CREATED:20220912T145639Z
LAST-MODIFIED:20221017T135810Z
UID:20772-1667718000-1667743200@proximaprova.com.br
SUMMARY:1º XCO Mairinque
DESCRIPTION:Lista Parcial de Inscritos \nInscritos até o momento \nA Prova\n \n \nO primeiro Mountain Bike XCO de Mairinque é a prova que busca a mistura de adrenalina\, técnica e força na melhor pista de XCO da região. A pista vem sendo trabalhada há anos por pessoas que realmente conhecem e gostam do MTB raiz e que querem oferecer a experiência de uma prova  cheia de desafios. \nO conhecido circuito do Horto Florestal em Mairinque foi  a pista escolhida para realizarmos a competição. Os atletas percorrerão as 5 voltas no circuito e aqueles que completarem as voltas com o menor tempo serão os vencedores. Lembrando que teremos premiação para os 5 primeiros de cada categoria e medalha de participação para todos os atletas inscritos. \nValor da Inscrição \n\nO valor para todas as categorias será de R$ 89\,00\, com exceção da categoria PCD.\n\nLocal do Evento \n\n        Clube do Sindicado dos Trabalhadores Ind. Metalúrgica\n\nAv. Alberto Corazza S/N – Mairinque / SP\n\n\n\n\nModalidade de Prova \n\nXCO – Cross Country Olímpico\n\nCategorias \nPro – 5 voltas\n \n\nMasculino Pro Sub 30 (20 até 29 anos)\nMasculino Pro Sub 40 (30 até 39 anos)\nMasculino Pro Sub 50 (40 até 49 anos)\nMasculino Pro E-Bike (Idade Livre)\n\nSport – 3 voltas\n \n\nMasculino Sport Junior (14 até 19 anos)\nMasculino Sport Sub 30 (20 até 29 anos)\nMasculino Sport Sub 40 (30 até 39 anos)\nMasculino Sport Sub 50 (40 até 49 anos)\nMasculino Sport Over 50 (Acima de 50 anos)\nFeminino Sport (Idade Livre)\n\nPremiação \nOs cinco(5) primeiros colocados de cada categoria serão premiados com troféus e todos os participantes receberão medalha de participação. \nPercurso \n\nEm Breve\n\nProgramação \n\n07:00 – Entrega dos kits\n07:45 – Alinhamento categoria Pro\n08:00 – Largada Pro\n09:45– Alinhamento categoria Sport\n10:00 – Largada Sport\n12:30 – Inicio da premiação\n14:00 – Encerramento do evento.\n\n 
URL:https://proximaprova.com.br/evento/xco-mairinque/
LOCATION:CLUBE SINDICATO METALURGICOS – MAIRINQUE\, Av. Alberto Cocozza\, S/N - Centro\, Mairinque\, São Paulo\, 18120000\, Brasil
ATTACH;FMTTYPE=image/png:https://proximaprova.com.br/wp-content/uploads/2022/09/XCO-Mairinque-2.png
END:VEVENT
END:VCALENDAR