BEGIN:VCALENDAR
VERSION:2.0
PRODID:-//Proxima Prova - ECPv6.15.13.1//NONSGML v1.0//EN
CALSCALE:GREGORIAN
METHOD:PUBLISH
X-WR-CALNAME:Proxima Prova
X-ORIGINAL-URL:https://proximaprova.com.br
X-WR-CALDESC:Eventos para Proxima Prova
REFRESH-INTERVAL;VALUE=DURATION:PT1H
X-Robots-Tag:noindex
X-PUBLISHED-TTL:PT1H
BEGIN:VTIMEZONE
TZID:America/Sao_Paulo
BEGIN:STANDARD
TZOFFSETFROM:-0300
TZOFFSETTO:-0300
TZNAME:-03
DTSTART:20210101T000000
END:STANDARD
END:VTIMEZONE
BEGIN:VEVENT
DTSTART;TZID=America/Sao_Paulo:20221204T070000
DTEND;TZID=America/Sao_Paulo:20221204T140000
DTSTAMP:20260425T222035
CREATED:20221118T143059Z
LAST-MODIFIED:20221118T151406Z
UID:21712-1670137200-1670162400@proximaprova.com.br
SUMMARY:3 HORAS MTB
DESCRIPTION:>>> Lista Parcial de Inscritos <<< \nREGULAMENTO3 HORAS DE MOUNTAIN BIKE – 15ª ediçãoDia 04 dezembro 2022 – Largada 09:00hLocal: Vale do Funil Agroturismo e Hospedagem \nPIEDADE / SP \nPROGRAMAÇÃO01/09/2022 – Início inscrições via whatsapp 15 9 9774 725401/12/2022 – Término inscrições1º lote – 01/09 a 20/10 – R$99\,00 –2º lote – 21/10 a 10/11 – R$119\,003º lote – 11/11 a 01/12 – R$149\,0003/11/2022 – 08:00h às 12:00h – Pista liberada para reconhecimento do percurso. 04/11/2022– 08:30h – Abertura da arena para alinhamento de largada.09:00h – Largada12:00h – Término da prova12:30h – Início da premiação \n1. CATEGORIAS E INSCRIÇÕES1.1 – As inscrições para o 3 Horas de Mountain Bike estão abertas a atletas\, com idade igualou superior a 13 anos\, levando-se em consideração a idade completa em 31/12/2022\,agrupada em duplas ou solo\, divididos nas seguintes categorias:DUPLAS: MASCULINO E MISTA: IDADE LIVRESOLO MASCULINO: SUB 20\, SUB 30\, SUB 40\, SUB45\, SUB50\, OVER 50.SOLO FEMININO: IDADE LIVREOBS: Os inscritos nas categorias com menos de 05 participantes serão remanejadospara categoria abaixo ou acima (média de idade).PIX pelo whatsapp 15 9 9774 7254 (Rony)Kit Inscrição: placa\, medalha de participação e camiseta (100 primeiras inscrições).Não haverá devolução do valor da inscrição em caso de desistência após a retirada ourecebimento do kit da prova. \n2. A PROVA1.Tipo de provaSerá disputada no sistema XCO em circuito fechado onde vencerá quem completar o maiornúmero de voltas no tempo de 3 horas .Todas categorias terão largada única e o alinhamentoserá por ordem de chegada na arena e seguindo demarcação feita pela organização. Assimcomo os pontos de troca das duplas.2. CircuítoO circuíto da prova passa por todo o tipo de via\, como estradas de terra\, trilhas \, passarelas demadeira.A organização da prova tem o direito de alterar o percurso da prova a qualquer tempo econforme seu critério\, sem aviso prévio\, por questões de segurança. \n\n \n\n3. CortesA organização\, por motivos de segurança\, encerrará os trabalhos dos fiscais de acordo com aprogramação. Os bikers deverão obrigatoriamente seguir as instruções dos fiscais.4. Equipamentos4.1. Do pilotoÉ obrigatório o uso de capacete. Aconselha-se também usar luvas e óculos. Levar dinheiro\,telefone celular em caso de algum imprevisto.4.2. Da bike: Indica-se levar ferramentas\, câmaras de ar\, bomba e reservatórios para água.4.3 – Em caso de quebra da bicicleta\, o participante deverá seguir pelo percurso demarcado\,no sentido correto\, até a área de apoio mecânico\, sempre dando preferência a passagem pelosparticipantes em condições normais\, após feito o reparo\, caso queira prosseguir na prova\, é sóseguir o fluxo normal da prova.5. Critérios de classificação.Todas as categorias serão classificadas de acordo com o maior número de voltas dentro doperíodo estipulado.A divulgação dos resultados será anunciada somente aos três primeiros colocados em cadacategoria na ocasião da premiação. As demais colocações\, estarão disponíveis até quarta feiraapós o evento na página www.facebook.com/bikeaventuramtb6. VistoriasA vistoria eletrônica será obrigatória no alinhamento para a largada para inclusão no sistemade cronometragem. Após o ingresso na arena\, não será permitida a saída da bicicleta.7. Alimentação\, logística e apoio particularTodos os participantes deverão ser auto-suficientes e serão eles mesmos os responsáveis pelacomida e bebida ao longo da prova.A organização indicará\, os pontos oficiais de apoio particular. Os locais de apoio particularpoderão ser anulados caso haja algum comprometimento de acesso ao local no que dizrespeito a segurança dos bikers.Apoio particular fora da área delimitada pela organização levará a desclassificação do atleta.Duplas– REVEZAMENTOO integrante da Dupla\, só poderá sair para a volta após a chegada do integrante da equipe naárea de transição demarcada pela organização. O não cumprimento caberá nadesclassificação da equipe.Fica a critério de cada Dupla a forma de revezamento\, porém aproporcionalidade no número de voltas deverá ser de no máximo 60% / 40%.8. SegurançaEm caso de emergência\, avisar o apoio mais próximo e acionar o resgate.Ainda em caso de emergência\, os competidores deverão chamar a atenção dos veículosoficiais da prova que ocasionalmente estarão passando por trechos do percurso. Lembramosque devido ao isolamento de algumas áreas da prova\, é impossível o trânsito de veículos.9. Cancelamento da provaEm caso de cancelamento da prova por motivos de força maior (morte\, acidente\, condiçõesmeteorológicas\, etc)\, os organizadores estarão isentos de qualquer tipo de indenização quenão seja a devolução da taxa de inscrição.11. Regras e punições11.1. É proibido jogar lixo de qualquer espécie na mata ou em áreas públicas.11.2. Obedecer a orientação dos staffs\, cabendo desclassificação sem aviso prévio.11.3. Após da vistoria não será permitido a saída da bike da arena de largada\, salvo comautorização da organização.11.4. Qualquer operação de resgate executada pela organização ou pelo apoio do própriocompetidor levará a desclassificação.11.5. É responsabilidade de cada participante ter um convênio médico para a assistência ecobertura financeira em caso de acidente. As equipes de apoio da organização que trabalhamno evento prestarão somente os primeiros socorros e encaminhamento do acidentado para umhospital mais próximo. A partir daí termina a responsabilidade. Todas as despesas médico-hospitalares correrão por conta do biker acidentado.11.6. A organização não se responsabiliza por objetos dos atletas esquecidos e/ou deixadossob a responsabilidade dos Staffs ou qualquer outra pessoa relacionada ao evento.11.7. Não será devolvido em hipótese alguma o valor pago pela inscrição. Só serãotransferidas inscrições para a etapa seguinte dentro da mesma temporada somente nos casosem que o interessado tenha comunicado a organização antes da etapa corrente\, ou seja\, antesda realização da prova.
URL:https://proximaprova.com.br/evento/3-horas-mtb-2/
LOCATION:Vale do Funil Agroturismo e Hospedagem\, Rua Hécules\, 800 Na estrada SP 079 no quilometro 117\,7\, Piedade\, São Paulo\, 18170-000\, Brasil
ATTACH;FMTTYPE=image/jpeg:https://proximaprova.com.br/wp-content/uploads/2022/11/3-horas-e1668784363142.jpg
END:VEVENT
END:VCALENDAR