BEGIN:VCALENDAR
VERSION:2.0
PRODID:-//Proxima Prova - ECPv6.15.13.1//NONSGML v1.0//EN
CALSCALE:GREGORIAN
METHOD:PUBLISH
X-ORIGINAL-URL:https://proximaprova.com.br
X-WR-CALDESC:Eventos para Proxima Prova
REFRESH-INTERVAL;VALUE=DURATION:PT1H
X-Robots-Tag:noindex
X-PUBLISHED-TTL:PT1H
BEGIN:VTIMEZONE
TZID:America/Sao_Paulo
BEGIN:STANDARD
TZOFFSETFROM:-0300
TZOFFSETTO:-0300
TZNAME:-03
DTSTART:20230101T000000
END:STANDARD
END:VTIMEZONE
BEGIN:VEVENT
DTSTART;TZID=America/Sao_Paulo:20240317T080000
DTEND;TZID=America/Sao_Paulo:20240317T170000
DTSTAMP:20260425T002123
CREATED:20231218T142124Z
LAST-MODIFIED:20240313T201448Z
UID:24614-1710662400-1710694800@proximaprova.com.br
SUMMARY:Maratona Vila do Jurupara - MTB
DESCRIPTION:<<< INSCRIÇÕES ENCERRADAS PELO SITE – A PARTIR DE AGORA SOMENTO PELO WHATSAPP 15 99774-7254 >>> \nLISTA PARCIAL DE INSCRITOS \nREGULAMENTO MARATONA VILA DO JUPARÁ DE MOUNTAIN BIKE\n1- ACORDO AO REGULAMENTO.\n1.1-Leu\, entendeu e aceitou todas as normas contidas nele.\n1.2- Participa da MARATONA VILA DO JUPARÁ DE MOUNTAIN BIKE por livre e espontânea\nvontade; em seu nome e de seus sucessores\, isenta os Organizadores\, Promotores\,\nPatrocinadores e Supervisores deste evento de toda e qualquer responsabilidade sobre\nquaisquer consequências\, acidentes\, furtos\, danos e prejuízos que possam advir de sua\nparticipação nesta prova\, NÃO cabendo qualquer tipo de indenização;\n1.3- Esta ́ ciente de seu estado de saúde e de estar capacitado para a participação\, gozando de\nsaúde perfeita e de haver treinado adequadamente para esta prova; ate a data de sua inscrição\,\nnão foi impedido de participar de qualquer outro esporte por motivos médicos; não usa drogas\ne não faz uso abusivo de bebidas alcoólicas;\n1.4- Assume com todas as despesas de viagem\, hospedagem\, alimentação\, translado\, seguro\,\nassistência médica e quaisquer outras despesas necessárias\, ou provenientes da sua participação\nneste evento\, antes\, durante ou depois do mesmo;\n1.5- Está ciente que a MARATONA VILA DO JUPARÁ DE MOUNTAIN BIKE acontece por vias\npúblicas e particulares abertas ao trânsito normal de veículos\, onde as leis de trânsito têm que\nser respeitadas; Esteja atento\, trafegue sempre em sua mão de direção e respeite as leis de\ntrânsito. Muita atenção nos cruzamentos\, nas curvas e na indicação dos Fiscais.\nPoderá haver travessia de BR \, ou estrada vicinal\, onde todos os atletas deverão respeitar as\nregras que a organização impor\, terão a todo momento pessoal autorizado da organização\njuntamente com o apoio da Guarda Civil Municipal paralisando o trânsito para não haver prejuízo\nde tempo para nenhum atleta.\nO roteiro poderá ser alterado em caso de chuva forte ou força maior. Nesse caso\, siga sempre a\nsinalização oficial e a orientação dos fiscais.\n1.6- Assume ressarcir quaisquer valores decorrentes de danos pessoais ou materiais causados\npor sua participação neste evento;\n1.7- Esta ́ ciente que e ́ o único responsável pela guarda de seu equipamento (bicicleta\,\nacessórios\, capacete…) durante toda a prova;\n1.8- Esta ́ ciente que se jogar embalagens ou lixo no percurso\, bem como isso ocorrer por parte\nde sua equipe de apoio ou acompanhantes\, poderá ser multado;\n1.9- Em caso de emergência\, autoriza qualquer pessoa qualificada a administrar o tratamento\nnecessário\, médico e/ou cirúrgico\, incluindo a administração de sangue e derivados sanguíneos;\n1.10- Está ciente que as Medalhas da MARATONA VILA DO JUPARÁ DE MOUNTAIN BIKE não\ne ́um prêmio dado a cada atleta inscrito na prova. O não comparecimento\, não obriga a\norganização de entrega futura da medalha;\n1.11- Esta ́ciente que\, além deste Regulamento Particular\, sua participação esta sujeita as\nnormas impostas pela FPC\, CBC e UCI.\n1.12- A Organização se reserva o direito de\, a qualquer momento\, rejeitar a inscrição de um\natleta. Poderá\, ainda\, a qualquer tempo\, suspender ou prorrogar prazos\, adicionar ou limitar o\nnúmero de inscrições do evento em função de necessidades/disponibilidades\ntécnicas/estruturais\, sem prévio aviso.\n1.13- Pode ser feito exame antidoping em alguns atletas das categorias Elite Masculina\, Elite\nFeminina\, Júnior e outras\, a escolha do comissário\, ou sorteio. \n2- ENTREGA DE KITS DOS ATLETAS\, PROGRAMAÇÃO DE PROVA E BRIEFINGS\nDia 20/12/2023- Abertura das Inscrições no site www.proximaprova.com.br\nDia 01/03/2024 – 08:00h – Início da entrega de kits na Loja Ace Oficina Bike Shop situado na rua\nProfessor Aristídes de Campos 336 – Vila Lucy – Sorocaba/SP\nPara recebê-los\, os bikers deverão apresentar um documento de identidade\,\ncomprovante de pagamento do boleto e a sua doação de\, no mínimo\, 1 Kg de alimento não\nperecível (caso o atleta não entregue será cobrado valor de R$10\,00 para compra dos mesmos)\,\npara atletas inscritos nas categorias oficiais os mesmos deverão apresentar também carteirinha\nda CBC (ou carta comprovando a filiação).\nDia 14/03/2024 – 18:00h – Fim da entrega de Kits na Loja Ace Oficina Bike Shop\nDia 16/03/2024 – 18:00h – Congresso Técnico para as categorias oficiais / Entrega de kits na Vila\ndo Jupará em Piedade/SP \, valendo a mesma exigência para a retirada descrita acima.\nDia 16/03/2024 – 19:30h – Fim da entrega de Kits / Congresso Técnico\nDia 17/03/2024 – DOMINGO\n07:30h – Abertura do Bolsão de Largada\n07:40h – Alinhamento\n07:50h – Largada da categoria E-Bike\n08:00h – Largada das categorias\n09:00h – Corrida Kids\n10:30h – Premiação das Categorias Kids\n13:00h – Divulgação dos Resultados no Painel Informativo\n13:30h – Início da Premiação\n17:00h – Encerramento do Evento\nOs Briefings ou instruções também serão enviadas por e-mail para todos os atletas\, com\nlembretes nos dias antecedentes a prova.\nO Congresso Técnico para as categorias oficiais será no dia 16/03/2024 às 18:00 horas.\nNas categorias Elite Masculina e Feminina (Elite e Sub23) o alinhamento será feito pelo\ncomissário da UCI/CBC utilizando o ranking Nacional.\nNão haverá entrega de kit de participação no dia da prova ou após o início da competição.\nA Organização da Prova possui um seguro individual para cada atleta. A cobertura individual e\nMorte Acidental e Invalidez por Acidente no valor de R$ 30.000\,00 e Despesas Médico\nHospitalares no valor de R$ 10.000\,00. Para acionar e receber o seguro o atleta deve seguir os\npassos exigidos pela seguradora caso contrário não recebera ́o valor previsto da cobertura. \n3- INFORMAÇÕES IMPORTANTES SOBRE INSCRIÇÕES – Início em 20 de Dezembro de 2023.\n3.1-A referência usada para o cálculo das idades e ́o dia 31/12/2024.\n3.2- As inscrições são individuais.\nIMPORTANTE : Nas categorias Elite / Júnior (Masculina e Feminina) só correm filiados.\nATENÇÃO: Se o atleta inscrito em uma destas categorias não apresentar a carteirinha da CBC\n(ou carta comprovando a filiação) no momento da confirmação da inscrição ele será transferido\npara uma categoria correspondente a sua idade e não será feita a devolução da diferença em\ndinheiro entre as competições. Evite problemas entrando em contato com a CBC e/ou a\nFederação Estadual com antecedência.\nINSCRIÇÕES PROMOCIONAIS NÃO PODEM SER CANCELADAS OU TRANSFERIDAS.\n3.3- PROCEDIMENTO:\na) Preencha corretamente e por completo sua ficha de inscrição no site:\nwww.PROXIMAPROVA.com.br\nb) Imprima o boleto através do site\, realize o pagamento até a data limite constante no boleto.\nc) O valor e a data de sua inscrição serão considerados a partir da data de confirmação do\npagamento do boleto\, e não da data de preenchimento da ficha de inscrição.\nd) O comprovante de pagamento e ́ um documento único e\, em caso de dúvida\, devera ́ ser\napresentado na Secretaria de Prova para a retirada do kit do atleta.\ne) Cancelamento e reembolso de compras: Caso o Consumidor exercite seu direito de\narrependimento\, nos termos do Código de Defesa do Consumidor\, o reembolso do valor pago\ndeverá ser efetuado pelo Organizador\, no prazo máximo de 7 (sete) dias\, a contar da data\ncompra.\nf) O direito de arrependimento é resguardado pelo Código de Defesa do Consumidor\, no art. 49:\nArt. 49. O consumidor pode desistir do contrato\, no prazo de 7 dias a contar de sua assinatura\nou do ato de recebimento do produto ou serviço\, sempre que a contratação de fornecimento de\nprodutos e serviços ocorrer fora do estabelecimento comercial\, especialmente por telefone ou\na domicílio.\ng) Pedidos de alterações de dados na ficha de inscrição ate ́15 dias antes da data do evento.\nOBSERVAÇÕES:\n– Para efetivação da inscrição\, todos os atletas deverão doar\, no mínimo\, 1 Kg de alimento não\nperecível (ou um valor de R$10\,00 que será revertido em alimento) no dia e local da entrega do\nkit de prova. Os alimentos arrecadados serão destinados à açâo social no município de Piedade. \n4- Categorias da MARATONA VILA DO JUPARÁ DE MOUNTAIN BIKE\n·ELITE MASCULINO: 19 ANOS E ACIMA\n·MASTER A1 MASCULINO: 30 à 34 ANOS\n·MASTER A2 MASCULINO: 35 à 39 ANOS\n·MASTER B1 MASCULINO: 40 à 44 ANOS\n·MASTER B2 MASCULINO: 45 à 49 ANOS\n·MASTER C1 MASCULINO: 50 à 54 ANOS\n·MASTER C2 MASCULINO: 55 à 59 ANOS\n·MASTER D1 MASCULINO: 60 à 64 ANOS\n– E-BIKE- IDADE LIVRE\n·ELITE FEMININO: 19 ANOS E ACIMA\n·MASTER A FEMININO: 30 à 39 ANOS\n·MASTER B FEMININO: 40 à 49 ANOS\n·MASTER C FEMININO: 50 ANOS E ACIMA \n5- SEGURO ATLETAS\nTodos atletas inscritos estarão coberto com seguro acidentes contratado pela Organização.\nAs despesas que excederem o valor do seguro (R$10000\,00 – Dez mil Reais) ficam por conta do\nrequerente. É de responsabilidade do participante ter um Convênio Médico que cubra seu\natendimento caso necessário. \n6- RESULTADOS\n6.1-O resultado final será apurado pelo tempo total de prova de cada atleta\, vencendo aquele\nque chegar primeiro. As 13:00h – Divulgação dos Resultados no Painel Informativo.\n6.2-O tempo de prova máximo será 5:00h (cinco horas ) para a MARATONA.\n6.3-Tempo de corte no primeiro ponto de apoio com 3:00h de prova (km45)\n6.4-A divulgação do resultado (somente daqueles que completaram a prova dentro do horário\nestipulado no Programa de Prova) se dará na Secretaria de prova do evento.\n6.5-Recursos e observações só serão aceitos ate ́ 15 minutos da divulgação dos resultados.\nPassado este prazo\, o mesmo será homologado pela Organização e divulgado como oficial.\n6.6-Aqueles que terminarem fora do tempo regulamentar só aparecerão nas listagens de\nresultados publicadas na internet\, após o término do evento. \n7- RESPONSABILIDADE DO PARTICIPANTE\n– Acompanhar as comunicações enviadas por e-mail ao seu endereço eletrônico cadastrado\,\nbem como acessar o site do evento para verificar possíveis modificações deste regulamento\,\nnoticias e informações para sua participação no evento.\n– Levar consigo toda a comida e bebida que for consumir durante a competição.\nA título de apoio suplementar\, a Organização vai fornecer água potável para reabastecimento\,\nem postos de controle ao longo do percurso\, no total serão 3 postos. 2 no percurso e 1 na\nchegada.\n– (Opcional) Ter um seguro de vida compatível com as necessidades de seus dependentes e\nbeneficiários. (A organização realiza seguro de vida para todos os atletas inscritos\nantecipadamente\, onde o mesmo não cobre despesas hospitalares\, caso o atleta acidente\nno percurso. O seguro não cobre caso o atleta passe mal por cansaço ou falta de treino)\n– (opcional)Ter seguro total de todo o seu equipamento (bicicleta\, capacete\, assessórios…).\nCada atleta e ́responsável pelo zelo e pela guarda de todo o seu equipamento/material de\nprova e objetos pessoais.\n– Ter um bom convênio médico (para assistência/cobertura financeira em caso de acidente).\nAs equipes de saúde que apoiam o evento prestarão somente os primeiros socorros e\nencaminhamento do acidentado para um hospital mais próximo. A partir dai termina a sua\nresponsabilidade. Todas as despesas hospitalares correrão por conta do acidentado.\n– Manter os números (frente da bicicleta e costas do atleta) claramente visíveis durante toda a\ncompetição.\n– É obrigatório o uso durante todo o trajeto do número dorsal e a placa frontal na bicicleta.\n– Respeitar as leis de trânsito durante toda a prova.\n– Notificar imediatamente à Secretaria de Prova se vier a abandonar a competição por qualquer\nmotivo. Caso isso não ocorra\, a ̀Organização se reserva o direito de promover uma busca\norganizada e cobrar desse participante todos os custos que forem gerados por esta ação.\n– Sujar o meio ambiente: descartar embalagens\, objetos e/ou lixo na natureza (caso a\nOrganização forneça água em algum ponto do percurso\, as embalagens deverão ser descartadas\nate ́20 metros do apoio.\n– Rebocar ou ser rebocado por outro veículo (a motor) utilizando cordas ou quaisquer outros\nartifícios.\n– Pegar carona no seu carro de apoio ou qualquer outro. Fazer qualquer alteração (recortar\nou furar)\, supressão ou inscrição nos numerais oficiais de prova.\n– Pedalar sem capacete durante a prova.\n– Manobras desleais contra outro biker.\n– Informações erradas ou falsas na ficha de inscrição.\n– Substituição de bike.\n– Ser acompanhado por terceiros no percurso (carro\, moto\, bicicleta não inscritas e/ou outros).\n– Receber manutenção de terceiros fora dos pontos oficiais de apoio.\n– Atalhar caminho (não passar pelo trajeto demarcado) ou pegar carona.\n– Largar em pelotão a ̀frente daquele reservado para a sua categoria.\n– Tumultuar o trabalho da Organização (desde a inscrição ate ́a premiação).\n– Não apresentar todos os comprovantes de passagem nos PCs de roteiro.\n– Biker cuja equipe de apoio sujar os locais de parada.\n– Esta proibido o uso de meias de compressão\, câmeras fotográficas e de filmagem ou qualquer\nequipamento de comunicação.\nSó serão aceitos recursos escritos\, entregues na Secretaria Oficial\, durante o transcorrer da\nprova ou ate ́30 minutos após a chegada do interessado. Recursos contra o resultado\, ate ́15\nminutos após sua divulgação. Só ́serão julgados os recursos por escrito e acompanhados de\num depósito no valor de R$ 50\,00 (cinquenta reais). Se julgado procedente\, o depósito será ́\ndevolvido\, caso contrário\, será ́doado a uma instituição de caridade. \n8- APOIO\nA Organização indicara ́no Programa de Prova\, entregue junto com o kit dos atletas\, os pontos\noficiais para apoio (opcional e se existirem locais adequados para este fim)\, onde será \npermitida a manutenção técnica. Cada participante e ́responsável por sua Equipe de Apoio e\npelas consequências advindas dos atos da mesma. \n9- DIREITO DE IMAGEM\nA MARATONA VILA DO JUPARÁ DE MOUNTAIN BIKE será registrada em vídeo e fotografia pela\norganização e seus parceiros oficiais. Os participantes que tiverem alguma restrição quanto\nao uso de sua imagem\, deverão notifica -lá por escrito a ̀organização no ato de sua inscrição\nno evento. Caso contrário\, estarão\, automaticamente\, autorizando a sua utilização de forma\ninteiramente gratuita\, a título universal\, em caráter total\, definitivo\, irrevogável e irretratável\,\nsem limitação de tempo ou de número de vezes\, podendo ocorrer no Brasil e/ou no exterior\,\nsem que seja devida ao autorizador qualquer remuneração.\nFica proibido qualquer empresa realizar fotos para venda que não tenha contrato com a\norganização. \n10- PREMIAÇÃO\nO atleta que for subir ao pódio\, devera ́estar com roupa de ciclismo\, não podendo subir de\nbermuda que não seja específica da prática do esporte\, de calçado fechado\, não podendo subir\nde sandália\, chinelo ou outro calçado aberto.\n– Medalhas MARATONA VILA DO JUPARÁ DE MOUNTAIN BIKE – entregue a todos os atletas\,\ndesde que tenham largado junto com todos os outros e terminado a prova dentro do prazo\nestabelecido.\nXCM – Troféu para os 5 primeiros colocados de cada categoria. Sendo 13 categorias Individuais\nCasos omissos serão julgados pela Direção de Prova e comissários responsáveis.\nA organização do evento se reserva no direito de alterar a data e local da realização das provas\ncom 7 dias de antecedência\, como qualquer outra clausula e/ou condições do presente\nregulamento com 24 horas de antecedência ficando ajustado que toda a divulgação de eventuais\nalterações serão feitas através do site oficial do evento:
URL:https://proximaprova.com.br/evento/maratona-vila-do-jurupara-mtb/
LOCATION:VILA DO JURUPARÁ\, PIEDADE\, São Paulo\, Brasil
ATTACH;FMTTYPE=image/png:https://proximaprova.com.br/wp-content/uploads/2023/12/MTB-JURUPARA-23.png
END:VEVENT
BEGIN:VEVENT
DTSTART;TZID=America/Sao_Paulo:20240317T080000
DTEND;TZID=America/Sao_Paulo:20240317T170000
DTSTAMP:20260425T002123
CREATED:20231218T153306Z
LAST-MODIFIED:20240313T201342Z
UID:24621-1710662400-1710694800@proximaprova.com.br
SUMMARY:Desafio Vila do Jupará MTB
DESCRIPTION:<<< INSCRIÇÕES ENCERRADAS PELO SITE – A PARTIR DE AGORA SOMENTO PELO WHATSAPP 15 99774-7254 >>> \nLISTA PARCIAL DE INSCRITOS \nRegulamento Desafio Vila do Jupará de Mountain Bike 2024\nDia: 17 março de 2024\nLocal: Vila do Jupará – Piedade / SP\nLargada: a partir das 08:00h \nart 1 – Poderão participar do Desafio todos os atletas devidamente inscritos. \nart 2 – É ato de desclassificação do Desafio: informações falsas na hora da inscrição\, cortar\ncaminho ou agir de má fé contra os outros atletas\, segurar ou atrapalhar atletas de outras\nequipes em prol da equipe\, usufruir de apoio externo sem autorização ou em área não\nespecificada pela organização.\nÉ EXPRESSAMENTE proibido fazer “pace” de qualquer forma\, ou qualquer ajuda extra que gere vantagem sobre demais participantes\, estando ou não inscrito na etapa.\nSalvo na Categoria Dupla Mista\, onde um membro da dupla pode auxiliar o outro\n“empurrando” e ainda assim\, sem nenhum artefato a não ser o próprio braço. \nart 3 – Não acatar qualquer decisão\, tumultuar\, e desrespeitar qualquer membro da\norganização. Qualquer dessas penalizações resulta em desclassificação do Desafio. \nart 4 – Obrigatório o uso de bicicletas de estilo mountain bike\, e o uso de capacete; \nart 5 – Não é permitida a troca de bicicletas durante o percurso em caso de quebra de\nequipamento. \nart 6 – A data base para cálculo da categoria é idade completa no dia 31 de Dezembro de 2024. \nart 7 – Obrigatório subir ao pódio com o uniforme. É proibido subir ao pódio atletas sem\ncamisa\, descalço\, ou com animais ou colocar a bicicleta a frente dos demais premiados;\nCaso o atleta não esteja presente durante a premiação\, um membro da equipe poderá receber a premiação em seu lugar. A organização não fará nenhum tipo de entrega após a premiação. \nart 8 – É proibido o tráfego de carro/moto de apoio de atletas durante o percurso. É permitido somente o tráfego atrás da ambulância e carro de apoio da organização do evento\, ou seja atrás do último competidor. \nart 9 – É proibido o uso de guidão com clipe. \nart 10 – Só serão aceitos recursos com no prazo máximo de 48h do encerramento do Desafio. \nart 11 – As inscrições encerram-se 7 dias antes da data do Desafio. A desistência de\nparticipação deverá ser informada até 7 dias antes da etapa\, para que haja reembolso integral desde que o kit inscrição não tenha sido retirado. \nart 12 – a inscrição só será confirmada após a confirmação de pagamento e dará direito a\nparticipação e concorrer a premiação anunciada. \nart 13 – kit de inscrição – todos os inscritos receberão um kit de inscrição contendo uma\ncamiseta* disponível no estoque\, uma placa de identificação. *Camiseta para as 200 primeiras inscrições confirmadas\, sendo essas\, camisetas do nosso estoque.\nInscrições limitadas a 200 vagas nas categorias SPORT e 150 vagas nas categorias FUN.\nO kit de inscrição estará disponível para retirada do dia 10/03/2024 ao dia 15/03/2024\, na Loja\nAce Oficina Bike Shop\, situada na rua Prof. Aristídes de Campos\, 336 Vila Lucy\, Sorocaba\,\nCEP18043-090 \nNÃO HAVERÁ ENTREGA DE KITS NO DIA DA PROVA. \nart 14 – tabela de valores e prazos para categorias FUN e SPORT:\n1º lote R$99\,00 de 01/12/2023 até 10/01/2024 ou restante das vagas.\n2º lote R$119\,00 de 11/01/2024 até 11/02/2024 ou restante das vagas.\n3º lote R$129\,00 de 12/02/2024 até 10/03/2024 ou restante das vagas.\nAs inscrições poderão ser feitas pelo whatsapp 15 997747254\nOu pelo site www.proximaprova.com.br \nart 15 – As categorias são (podem ser alteradas de acordo com a necessidade): \nCategorias percurso FUN – 15km a 20km \nMASCULINO\nJuvenil (10 a 13 anos) – acompanhado de um responsável*\nJunior (14 a 18 anos)\, Sub40 (19 a 39 anos)\, Over40 (40 anos e acima)\nFEMININO\nJuvenil (10 a 13 anos) – acompanhado de um responsável*\nJunior (14 a 18 anos)\, Sub40 (19 a 39 anos) \, Over40 (40 anos e acima)\n*O acompanhante responsável nas categorias FUN Juvenil Masculino e Feminino não poderá\noferecer NENHUMA forma de ajuda física; seja empurrar o atleta ou somente a bicicleta;\npuxar; fazer pace; e deverá se cadastrar junto à organização para receber a plaqueta específica\ncomo Responsável\, não haverá custo de inscrição para tal\, caso o mesmo queira receber o kit\nde inscrição (camiseta/medalha de participação) o valor será o mesmo anunciado as demais\ncategorias. \nCategorias percurso SPORT – 30km a 40km \nMASCULINO\nJunior (14 a 18 anos)\, Sub23(19 a 23 anos)\, Sub30(24 a 29 anos)\, Sub35 (30 a 34 anos)\, Sub40\n(35 a 39 anos)\, Sub45 (40 a 44 anos)\, Sub50 (45 a 49 anos)\, Sub60 (50 a 59 anos)\, Over 60 (60 anos e acima). \nFEMININO\nSub30 (14 a 29 anos)\, Sub35 (30 a 34 anos)\, Sub40 (31 a 39 anos)\, Sub50 (40 a 49 anos)\, Over 50 (50 anos e acima).\nPNE e Dupla Mista – Idade livre \nÉ possível participar em categorias diferentes em cada etapa\, por exemplo na categoria por\nidade em uma etapa e dupla mista em outra\, porém a pontuação conquistada não será\ntransferida. \nart 16 – Premiação do Desafio – serão premiados os 5 primeiros colocados de cada categoria.\nTodos os participantes que concluírem a etapa receberão uma medalha de participação. \nart 17 – Percurso – será em vias públicas\, nas estradas de terra ou pedregulhos\, podendo\nhaver trilhas fechadas\, obstáculos naturais\, aclives e declives. Em nenhum momento estará\nfechada e haverá trânsito normal de veículos\, portanto as normas/leis de trânsito deverão ser respeitadas. \nart 18 – Em caso de cancelamento da prova por motivos de força maior (morte\, acidente\,\ncondições meteorológicas\, etc)\, os organizadores estarão isentos de qualquer tipo de\nindenização que não seja a devolução da taxa de inscrição desde que o kit de inscrição não\ntenha sido retirado. \nart 19 – É responsabilidade de cada participante ter um convênio médico para a assistência e\ncobertura financeira em caso de acidente. As equipes de apoio da organização que trabalham\nno evento prestarão somente os primeiros socorros e encaminhamento do acidentado para\num hospital mais próximo. A partir daí termina a responsabilidade. Todas as despesas médico hospitalares correrão por conta do biker acidentado. Todos participantes devidamente inscritos estarão cobertos por seguro acidente contratado pela organização. \nart 20 – A organização não se responsabiliza por objetos dos atletas esquecidos e/ou deixados sob a responsabilidade dos Staffs ou qualquer outra pessoa relacionada ao evento. \nart 21 – A chegada oficial será na entrada no funil ao passar pela tenda de cronometragem.\nDesde a entrada no funil até o ponto de cronometragem não será permitida ultrapassagem\,\nsalvo em orientação da organização. \nart 22 – O recebimento da medalha de participação\, se dará após a chegada em área\ndemarcada pela organização e após a conferência da plaqueta de numeração. Não será\nentregue a medalha após a saída dessa área. \nArt 23 – Programação:\n01/12/2023 – Abertura das inscrições no site www.proximaprova.com.br\n10/03/2024 – Encerramento das inscrições\nInício retirada de Kits – 08:00h às 18:00h – Ace oficina Bike Shop – Sorocaba\n15/03/2024 – Encerramento da retirada de kits\n17/03/2024 – 07:30h – Abertura da área de largada Maratona vila do Jupará\n08:00h – Largada Maratona Vila do Jupará\n08:20h – Abertura da área de largada Categorias Sport\n08:30h – Largada Categorias Sport\n08:40h – Abertura da área de largada Categorias Fun\n08:50h – Largada Categorias Fun\n11:00h – Início premiação Categorias Sport e Fun\n12:30 – Início Premiação Maratona Vila do Jupará\nTermo de responsabilidade\nTodos os participantes ao se inscrever estão automaticamente concordando com todas as\nregras acima. \nFicha médica\nTodos os participantes deverão preencher a Ficha médica para fins de emergência.\nEssa ficha será repassada a todos que confirmarem sua inscrição e deverá ser preenchida e\nencaminhada a organização. Não será permitida a participação sem a entrega dessa ficha
URL:https://proximaprova.com.br/evento/desafio-vila-do-jupara-mtb/
LOCATION:VILA DO JURUPARÁ\, PIEDADE\, São Paulo\, Brasil
ATTACH;FMTTYPE=image/png:https://proximaprova.com.br/wp-content/uploads/2023/12/MTB-JURUPARA-09.png
END:VEVENT
END:VCALENDAR