BEGIN:VCALENDAR
VERSION:2.0
PRODID:-//Proxima Prova - ECPv6.15.13.1//NONSGML v1.0//EN
CALSCALE:GREGORIAN
METHOD:PUBLISH
X-WR-CALNAME:Proxima Prova
X-ORIGINAL-URL:https://proximaprova.com.br
X-WR-CALDESC:Eventos para Proxima Prova
REFRESH-INTERVAL;VALUE=DURATION:PT1H
X-Robots-Tag:noindex
X-PUBLISHED-TTL:PT1H
BEGIN:VTIMEZONE
TZID:America/Sao_Paulo
BEGIN:STANDARD
TZOFFSETFROM:-0300
TZOFFSETTO:-0300
TZNAME:-03
DTSTART:20230101T000000
END:STANDARD
END:VTIMEZONE
BEGIN:VEVENT
DTSTART;TZID=America/Sao_Paulo:20240623T080000
DTEND;TZID=America/Sao_Paulo:20240623T170000
DTSTAMP:20260424T195949
CREATED:20240430T141412Z
LAST-MODIFIED:20240622T133644Z
UID:24898-1719129600-1719162000@proximaprova.com.br
SUMMARY:Desafio Pedal Ipava Bikers da Serra
DESCRIPTION:>>> INSCRIÇÕES ENCERRADAS <<< \n  \nLista PARCIAL de Inscritos \nO EVENTO \nVenha participar do Desafio Pedal Ipava Bikers da Serra! Este evento de mountain bike\, que ocorrerá no dia 23 de junho em Itapecerica da Serra\, é uma oportunidade perfeita para ciclistas de todos os níveis desfrutarem das pitorescas trilhas e estradas da região. Reconhecida por sua beleza natural\, Itapecerica da Serra oferece um cenário encantador para uma prova de MTB que combina diversão\, aventura e a paixão pelo ciclismo. \nAs rotas foram cuidadosamente planejadas para proporcionar uma experiência agradável\, sem deixar de oferecer desafios moderados que enriquecem a corrida. O evento é ideal tanto para quem busca testar seus limites quanto para aqueles que desejam apenas desfrutar de um dia ao ar livre\, pedalando por caminhos rodeados pela natureza. \nO Pedal Ipava Bikers da Serra não é apenas uma competição\, mas uma celebração do espírito esportivo e da comunidade de mountain bike\, oferecendo uma oportunidade única para compartilhar momentos de alegria e superação pessoal. \n\nData e Local do Evento:\nData: 23 de Junho\nLocal: Estrada Municipal do Vergueiro\, 1967\, Bairro Itararé\, divisa de Embu Guaçu e Itapecerica da Serra. \nCategorias e Percursos: \n\nCategoria Pro –> Somente Masculino: \n– Distância: 38 km\n– Altimetria: 1000 metros\n– Categorias:  \n\nSUB 30 – 19 A 29 ANOS \nMASTER A – 30 A 39 ANOS\nMASTER B – 40 A 49 ANOS\nMASTER C – 50 A 59 ANOS\nDUPLA MASCULINA (IDADE LIVRE)\n\n– Percurso: Link do Percurso \n\nCategoria Sport: \n– Distância: 28 km\n– Altimetria: 740 metros\n– Categorias: \n\nMASCULINO JUNIOR – 14 A 18 ANOS\nMASCULINO SUB 30 – 19 A 29 ANOS\nMASCULINO MASTER A – 30 A 39 ANOS\nMASCULINO MASTER B – 40 A 49 ANOS\nMASCULINO MASTER C – 50 a MAIS\nMASCULINO PESO PESADO – ACIMA DE 100KG\nDUPLA MISTA (IDADE LIVRE)\nFEMININO MASTER A – 18 A 29 ANOS\nFEMININO MASTER B – 30 A 39 ANOS\nFEMININO MASTER C – 40 MAIS\n\n– Premiação: 5 primeiros da geral saem da categoria por idade\n– Percurso: Link do Percurso \n\nCategoria Fun: \n– Distância: 15 km\n– Altimetria: 300 metros\n– Categorias:  \n\nMASCULINO JUNIOR – 12 A 18 ANOS\nMASCULINO OPEN – 19 MAIS\nFEMININO MASTER A – 19 A 39 ANOS\nFEMININO MASTER B – 40 MAIS\n\n– Percurso: Link do Percurso \n\nPremiação:\n– Troféus para os cinco primeiros de cada categoria principal.\n– Todos os participantes receberão medalhas. \n\nInscrições:\n– Primeiro Lote: R$ 75\,00 até 10/06\n– Segundo Lote: R$ 90\,00 até 20/06 \n\nWhatsapp do evento \nEntre no whatsapp do evento e fique por dentro das novidades e notícias. \nhttps://chat.whatsapp.com/DwRzkW1qi3J5djuLzBC3d7 \nou pelo Instagram \n\nProgramação: \n06:30 – Início da entrega dos kits\n08:20 – Início do alinhamento das categorias\n08:45 – Largada das categorias Pro\n09:00 – Largada das categorias Sport\n09:10 – Largada das categorias Fun\n13:00 – Início da Premiação \n\nTroca de Categoria \nPara os atletas que desejam mudar de categoria e ainda não finalizaram o pagamento da inscrição\, é possível realizar uma nova inscrição selecionando a categoria desejada. No entanto\, para aqueles que optarem pela mudança de categoria\, será aplicada uma taxa adicional de R$ 10\,00. Este valor deve ser encaminhado antes de proceder com a alteração da categoria. \n\nSeguro Atleta\nTodos os atletas que participarem do evento estarão cobertos pelo seguro atleta. \n\nPolítica de Cancelamento:\n– Cancelamentos e trocas de inscrição são permitidos até a quinta-feira anterior ao evento. A política é estabelecida para garantir a organização eficaz e a melhor experiência para todos. \n\nTermo de Responsabilidade:\n– Ao inscrever-se\, o participante declara estar ciente dos riscos do esporte\, da condição física necessária\, e assume toda a responsabilidade por sua participação\, isentando os organizadores de qualquer responsabilidade por eventuais danos. \nJunte-se a nós no Pedal Ipava Bikers da Serra e desfrute de uma experiência de ciclismo memorável em um dos mais belos cenários de São Paulo. Seja para competir ou para curtir um dia incrível de pedal\, este evento é perfeito para todos os amantes do MTB. Inscreva-se hoje e prepare-se para um dia espetacular!
URL:https://proximaprova.com.br/evento/pedal-ipava-bikers-da-serra/
LOCATION:Sítio Joãozinho\, Estrada Municipal do Vergueiro\, 1967\, Bairro Itararé\, Embu-Guaçu\, Itapecerica da Serra - SP.\, Itapecerica da Serra\, São Paulo\, 06911-405\, Brasil
ATTACH;FMTTYPE=image/jpeg:https://proximaprova.com.br/wp-content/uploads/2024/04/Pedal-Ipava.jpg
END:VEVENT
END:VCALENDAR