BEGIN:VCALENDAR
VERSION:2.0
PRODID:-//Proxima Prova - ECPv6.15.13.1//NONSGML v1.0//EN
CALSCALE:GREGORIAN
METHOD:PUBLISH
X-ORIGINAL-URL:https://proximaprova.com.br
X-WR-CALDESC:Eventos para Proxima Prova
REFRESH-INTERVAL;VALUE=DURATION:PT1H
X-Robots-Tag:noindex
X-PUBLISHED-TTL:PT1H
BEGIN:VTIMEZONE
TZID:America/Sao_Paulo
BEGIN:STANDARD
TZOFFSETFROM:-0300
TZOFFSETTO:-0300
TZNAME:-03
DTSTART:20230101T000000
END:STANDARD
END:VTIMEZONE
BEGIN:VEVENT
DTSTART;TZID=America/Sao_Paulo:20240825T063000
DTEND;TZID=America/Sao_Paulo:20240825T150000
DTSTAMP:20260424T164805
CREATED:20240319T124731Z
LAST-MODIFIED:20240822T110540Z
UID:24781-1724567400-1724598000@proximaprova.com.br
SUMMARY:3 Horas de Mountain Bike
DESCRIPTION:<<< INSCRIÇÕES APENAS POR WHATSAPP >>> \nLISTA PARCIAL DE INSCRITOS \nREGULAMENTO 3 HORAS DE MOUNTAIN BIKE – 17ª edição \nDia 25 agosto 2024 – Largada 09:00h\nLocal: Parque Ecológico Collemar de Miranda Botto\nPIEDADE / SP \nPROGRAMAÇÃO\n24/08/2024 – 08:00h às 14:00h – Pista liberada para reconhecimento do\npercurso.\n25/08/2024 – 08:30h – Abertura da arena para alinhamento de largada.\n09:00h – Largada\n12:00h – Término da prova\n12:30h – Início da premiação \n1. CATEGORIAS E INSCRIÇÕES\n1.1 – As inscrições para o 3 Horas de Mountain Bike estão abertas a atletas\, com\nidade igual ou superior a 13 anos\, levando-se em consideração a idade completa\nem 31/12/2024\, agrupada em duplas ou solo\, divididos nas seguintes categorias: \nDUPLAS: MASCULINO E MISTA: IDADE LIVRE\nSOLO MASCULINO: SUB 25\, SUB 30\, SUB 35\, SUB 40\, SUB45\, SUB50\, SUB 55 e\nOVER 55.\nSOLO FEMININO: IDADE LIVRE\nOBS: Os inscritos nas categorias com menos de 05 participantes serão\nremanejados para categoria abaixo ou acima (média de idade).\nPIX pelo whatsapp 15 9 9774 7254 (Rony) ou www.proximaprova.com.br\nKit Inscrição: placa\, medalha de participação(após conclusão da prova). \nValores de Inscrição:\nDe 01 de abril a 30 abril – R$99\,00 por participante\nDe 01 maio a 31 maio – R$109\,00 por participante\nDe 01 de junho a 26 junho – R$119\,00 por participante\nCamiseta opcional no valor de R$20\,00 a ser confirmado no ato da inscrição.\nNão haverá devolução do valor da inscrição em caso de desistência após a\nretirada ou recebimento do kit da prova. \nTroca de categoria será permitido mediante uma taxa adicional de R$ 5\,00 por troca. \n2. A PROVA \n1.Tipo de prova\nSerá disputada no sistema XCO em circuito fechado onde vencerá quem\ncompletar o maior número de voltas no tempo de 3 horas .Todas categorias terão\nlargada única e o alinhamento será por ordem de chegada na arena e seguindo\ndemarcação feita pela organização. Assim como os pontos de troca das duplas. \n2. Circuíto\nO circuíto da prova passa por todo o tipo de via\, como estradas de terra\, trilhas \,\npassarelas de madeira.\nA organização da prova tem o direito de alterar o percurso da prova a qualquer\ntempo e conforme seu critério\, sem aviso prévio\, por questões de segurança. \n3. Cortes\nA organização\, por motivos de segurança\, encerrará os trabalhos dos fiscais de\nacordo com a programação. Os bikers deverão obrigatoriamente seguir as\ninstruções dos fiscais. \n4. Equipamentos\n4.1. Do piloto\nÉ obrigatório o uso de capacete. Aconselha-se também usar luvas e óculos. Levar\ndinheiro\, telefone celular em caso de algum imprevisto.\n4.2. Da bike: Indica-se levar ferramentas\, câmaras de ar\, bomba e reservatórios\npara água.\n4.3 – Em caso de quebra da bicicleta\, o participante deverá seguir pelo percurso\ndemarcado\, no sentido correto\, até a área de apoio mecânico\, sempre dando\npreferência a passagem pelos participantes em condições normais\, após feito o\nreparo\, caso queira prosseguir na prova\, é só seguir o fluxo normal da prova. \n5. Critérios de classificação.\nTodas as categorias serão classificadas de acordo com o maior número de voltas\ndentro do período estipulado.\nA divulgação dos resultados será anunciada somente aos três primeiros colocados\nem cada categoria na ocasião da premiação. As demais colocações\, estarão\ndisponíveis até quarta feira após o evento na página\nwww.facebook.com/bikeaventuramtb \n6. Alimentação\, logística e apoio particular\nTodos os participantes deverão ser auto-suficientes e serão eles mesmos os\nresponsáveis pela comida e bebida ao longo da prova.\nA organização indicará\, os pontos oficiais de apoio particular. Os locais de apoio\nparticular poderão ser anulados caso haja algum comprometimento de acesso ao\nlocal no que diz respeito a segurança dos bikers.\nApoio particular fora da área delimitada pela organização levará a desclassificação\ndo atleta.\nDuplas – REVEZAMENTO – mínimo permitido a proporção 60 % / 40 %\nO integrante da Dupla\, só poderá sair para a volta após a chegada do\nintegrante da equipe na área de transição demarcada pela organização após um\ntoque entre os participantes . O não cumprimento caberá na desclassificação da\nequipe. \n7. Segurança\nEm caso de emergência\, avisar o apoio mais próximo e acionar o resgate.\nAinda em caso de emergência\, os competidores deverão chamar a atenção dos\nveículos oficiais da prova que ocasionalmente estarão passando por trechos do\npercurso. Lembramos que devido ao isolamento de algumas áreas da prova\, é\nimpossível o trânsito de veículos. \n8. Cancelamento da prova\nEm caso de cancelamento da prova por motivos de força maior (morte\, acidente\,\ncondições meteorológicas\, etc)\, os organizadores estarão isentos de qualquer tipo\nde indenização que não seja a devolução da taxa de inscrição. \n8. Regras e punições\n8.1. É proibido jogar lixo de qualquer espécie na mata ou em áreas públicas.\n8.2. Obedecer a orientação dos staffs\, cabendo desclassificação sem aviso prévio.\n8.3. Após da vistoria não será permitido a saída da bike da arena de largada\, salvo\ncom autorização da organização.\n8.4. Qualquer operação de resgate executada pela organização ou pelo apoio do\npróprio competidor levará a desclassificação.\n8.5. É responsabilidade de cada participante ter um convênio médico para a\nassistência e cobertura financeira em caso de acidente. As equipes de apoio da\norganização que trabalham no evento prestarão somente os primeiros socorros e\nencaminhamento do acidentado para um hospital mais próximo. A partir daí\ntermina a responsabilidade. Todas as despesas médico-hospitalares correrão por\nconta do biker acidentado.\n8.6. A organização não se responsabiliza por objetos dos atletas esquecidos e/ou\ndeixados sob a responsabilidade dos Staffs ou qualquer outra pessoa relacionada\nao evento.\n8.7. Não será devolvido em hipótese alguma o valor pago pela inscrição. \n9. Chegada\nA chegada oficial será na entrada no funil ao passar pela tenda de\ncronometragem.\nDesde a entrada no funil até o ponto de cronometragem não será permitida\nultrapassagem\, salvo em orientação da organização. \n10. Termo de responsabilidade\nTodos os participantes ao se inscrever estão automaticamente concordando com\ntodas as regras acima. \n11- Percurso:  \nSerá um percurso aproximado de 4km cada volta. O vencedor será o\nque completar o maior número de no tempo total de 3 horas . \n12 – A PREMIAÇÃO\n12.1 – Serão premiados com troféu os cinco primeiros colocados da GERAL SOLO\n(Automaticamente não concorrem a premiação nas categorias por idade) e os\ncinco primeiros de todas categorias.\n12.2 – Medalhas serão entregues a todos participantes inscritos que completarem\na prova.\n12.3 – Os bikers não presentes no pódio não terão direito a premiação. \n13 – DISPOSIÇÕES GERAIS\n13.1- Será obrigatório o uso de capacete\, e opcional de luva e óculos. A bike\ndeverá estar em perfeito estado. Haverá uma vistoria técnica do estado da bike e\ndo capacete do atleta na entrada da arena.\n13.2 – Os recursos serão aceitos\, por escrito pelo Diretor da Prova\, até 10 minutos\napós o término da prova e antes do início da premiação.\n13.3 – 3 Horas de MTB é uma prova de resistência. É obrigação de cada\nparticipante: levar toda a comida e bebida que for consumida durante a\ncompetição\, inclusive água. O abastecimento externo se fará somente nas áreas\ndemarcadas pela organização.\n13.4 – É responsabilidade de cada participante ter um convênio médico. As\nequipes médicas que trabalharão no evento prestarão somente os primeiros\nsocorros e encaminharão o acidentado para um hospital público municipal.\n13.5 – Será contratado Seguro Acidente para todos inscritos no evento.\n13.6 – Mountain Bike é um esporte Olímpico Radical e Ecológico\, é nosso dever\nzelar pela sua imagem preservando a natureza. Não deixando sujo o local do\nevento\, principalmente o circuito.\n13.7 – 3 Horas de MTB é um evento de propriedade da Bike Aventura
URL:https://proximaprova.com.br/evento/3-horas-de-mountain-bike/
LOCATION:Parque Ecológico Municipal de Piedade/SP\, R. Franciscoco Pinto Camargo\, 488\, Nova Olinda\, Piedade\, São Paulo\, 18170-000\, Brasil
ATTACH;FMTTYPE=image/png:https://proximaprova.com.br/wp-content/uploads/2024/03/3h-1.png
END:VEVENT
END:VCALENDAR