BEGIN:VCALENDAR
VERSION:2.0
PRODID:-//Proxima Prova - ECPv6.15.13.1//NONSGML v1.0//EN
CALSCALE:GREGORIAN
METHOD:PUBLISH
X-ORIGINAL-URL:https://proximaprova.com.br
X-WR-CALDESC:Eventos para Proxima Prova
REFRESH-INTERVAL;VALUE=DURATION:PT1H
X-Robots-Tag:noindex
X-PUBLISHED-TTL:PT1H
BEGIN:VTIMEZONE
TZID:America/Sao_Paulo
BEGIN:STANDARD
TZOFFSETFROM:-0300
TZOFFSETTO:-0300
TZNAME:-03
DTSTART:20230101T000000
END:STANDARD
END:VTIMEZONE
BEGIN:VEVENT
DTSTART;TZID=America/Sao_Paulo:20241124T063000
DTEND;TZID=America/Sao_Paulo:20241124T110000
DTSTAMP:20260424T212813
CREATED:20241016T121033Z
LAST-MODIFIED:20241029T171925Z
UID:25742-1732429800-1732446000@proximaprova.com.br
SUMMARY:JACIRA RUN
DESCRIPTION:1º Jacira Run – Corrida e Caminhada 5 km \nSe você ama correr ou quer experimentar uma caminhada energizante\, o 1º Jacira Run é o evento perfeito para você! Venha fazer parte dessa grande celebração esportiva\, que acontece no coração de São Paulo\, no bairro Jacira\, em uma manhã de saúde\, esporte e união. \n📅 Data: 24 de novembro de 2024 (domingo)\n🏃‍♂️ Modalidades: Corrida e Caminhada 5 km\n📍 Local de largada: Terminal do Jacira\, São Paulo\n⏰ Horário da largada: 7h30 (chegue cedo para evitar imprevistos) \n>>> LISTA PARCIAL DE INSCRITOS <<< \nInscrições:\n💸 Valor: R$ 50\,00\nAs inscrições incluem um kit\, contendo: \n– Numeral de inscrição\n– Hidratação disponível antes\, durante e após a corrida\n– Frutas frescas na linha de chegada para reposição de energia\n– Medalha exclusiva para todos os participantes\, como recordação de sua participação\n– Camiseta para os 100 primeiros inscritos. Tamanhos conforme disponibilidade \n \nAtenção: Os 5 primeiros colocados de cada categoria serão premiados com um troféu 🏆 e uma medalha 🥇 especial\, reconhecendo seu desempenho destacado! \n— \nCategorias:\nAs categorias são divididas por gênero: \n– Masculino Idade Livre\n– Feminino Idade Live \n— \nInformações Importantes: \n📦 Retirada do Kit: No dia do evento\, das 6h30 às 7h00 no local de largada. Não se esqueça de chegar com antecedência para pegar seu numeral e chip e evitar filas! \n💬 Fique por dentro das novidades: Após a inscrição\, não se esqueça de entrar no grupo oficial do evento no WhatsApp para receber todas as atualizações\, comunicados e dicas de última hora. \n– WhatsApp: [Clique aqui para entrar no grupo]\n– Instagram: Acompanhe-nos também pelo nosso perfil no Instagram: [@cseventosesportivossp] \n— \nPercurso: \nO percurso de 5 km passa pelas principais ruas do bairro Jacira\, com pontos estratégicos de hidratação ao longo do trajeto para garantir que todos os atletas estejam bem assistidos. O evento será monitorado por profissionais qualificados e por nossa equipe de voluntários para garantir segurança e organização impecável. \n— \nOrganização e Apoio: \nEste evento é organizado por CS Eventos Esportivos e Águias Runners\, equipes apaixonadas por esporte e comprometidas em promover uma experiência inesquecível para todos os participantes. \nApoio: Prefeitura de Itapecerica da Serra\, garantindo que o evento seja realizado com toda a infraestrutura e suporte necessário. \n— \nVenha fazer parte desse dia inesquecível! Seja correndo ou caminhando\, o importante é participar\, desafiar seus limites e compartilhar essa experiência única com amigos e familiares! Nos vemos no 1º Jacira Run! 🏅
URL:https://proximaprova.com.br/evento/jacira-run/
LOCATION:Terminal Jacira\, Rua Tulipa\, Itapecerica da Serra\, São Paulo\, 06864-020\, Brazil
ATTACH;FMTTYPE=image/jpeg:https://proximaprova.com.br/wp-content/uploads/2024/10/WhatsApp-Image-2024-10-16-at-08.51.23.jpeg
END:VEVENT
END:VCALENDAR