BEGIN:VCALENDAR
VERSION:2.0
PRODID:-//Proxima Prova - ECPv6.15.13.1//NONSGML v1.0//EN
CALSCALE:GREGORIAN
METHOD:PUBLISH
X-ORIGINAL-URL:https://proximaprova.com.br
X-WR-CALDESC:Eventos para Proxima Prova
REFRESH-INTERVAL;VALUE=DURATION:PT1H
X-Robots-Tag:noindex
X-PUBLISHED-TTL:PT1H
BEGIN:VTIMEZONE
TZID:America/Sao_Paulo
BEGIN:STANDARD
TZOFFSETFROM:-0300
TZOFFSETTO:-0300
TZNAME:-03
DTSTART:20230101T000000
END:STANDARD
END:VTIMEZONE
BEGIN:VEVENT
DTSTART;VALUE=DATE:20241231
DTEND;VALUE=DATE:20250131
DTSTAMP:20260425T002137
CREATED:20241202T135031Z
LAST-MODIFIED:20241202T135707Z
UID:25955-1735603200-1738281599@proximaprova.com.br
SUMMARY:Desafio de Regularidade
DESCRIPTION:Segue o regulamento atualizado com o novo critério para a categoria de velocidade média: \n\nRegulamento da Competição de Regularidade – Dezembro Sobre Rodas\nOlá\, galera do pedal! 🚴‍♂️🚴‍♀️ \nChegou a hora de mostrar quem são os verdadeiros monstros do ciclismo em Ibiúna! Este dezembro será recheado de desafios\, suor e muita diversão com a nossa Competição de Regularidade\, e queremos você junto nessa brincadeira! Bora? \nComo funciona?\nDurante o mês de dezembro\, vamos acompanhar as pedaladas de todos os participantes em busca dos melhores resultados em quatro categorias diferentes: \n\nMaior distância acumulada (quantos km você consegue pedalar em um mês?);\nA pedalada mais longa (só vale aquela épica! 🚴);\nMaior acúmulo de altimetria (para quem não tem medo de subida);\nMaior velocidade média (para os foguetes de Ibiúna e região\, com mínimo de 400 km acumulados para validação dos dados).\n\nQuem pode participar?\nEssa brincadeira é exclusiva para os moradores de Ibiúna e amigos próximos dos atletas da cidade. Ou seja\, só os de casa – mas sempre com espírito esportivo! \nComo participar?\nÉ simples\, fácil e grátis! Basta entrar no nosso grupo do Strava:\n👉 strava.com/clubs/ibiunaCC \nTodas as pedaladas registradas em dezembro serão consideradas automaticamente. Não usa o Strava ainda? Corre que dá tempo de começar! \nPremiação\nOs melhores de cada categoria serão premiados\, e no primeiro final de semana de janeiro faremos um grande encontro com uma pedalada top Ibiúna – São Roque – Ibiúna (ida e volta) para fechar a brincadeira com chave de ouro. Além disso\, vamos premiar os vencedores desta competição final\, porque aqui a diversão e a confraternização são o que contam! \nContribuição 💰\nA participação é gratuita\, mas\, se você quiser colaborar com a organização do evento\, aceitamos doações para ajudar nos custos (aquela água gelada e uns troféus não saem do nada\, né? 😉). \nRegras gerais\n\nApenas atividades registradas no Strava serão consideradas para a apuração;\nNa categoria de velocidade média\, é necessário ter um mínimo de 400 km acumulados no mês para validação do resultado;\nOs dados de cada categoria serão validados pela organização ao final do mês;\nEste é um evento amigável e descontraído\, então fair play é obrigatório;\nO prêmio maior será a diversão e a amizade\, mas as medalhas também estão na lista!\n\nChame seus amigos\, prepare a bike e venha pedalar com a gente! 🚵‍♂️💨 \nQualquer dúvida\, é só dar um alô no grupo ou falar com a organização. Nos vemos no asfalto\, nas trilhas e na altimetria. Bora fazer dezembro inesquecível? \nBora Pedalar Ibiúna! 🎉
URL:https://proximaprova.com.br/evento/desafio-de-regularidade/
LOCATION:São Paulo
ATTACH;FMTTYPE=image/jpeg:https://proximaprova.com.br/wp-content/uploads/2024/12/logo-desafio-de-regularidade.jpg
ORGANIZER;CN="Proxima Prova":MAILTO:contato@proximaprova.com.br
END:VEVENT
END:VCALENDAR