BEGIN:VCALENDAR
VERSION:2.0
PRODID:-//Proxima Prova - ECPv6.15.13.1//NONSGML v1.0//EN
CALSCALE:GREGORIAN
METHOD:PUBLISH
X-ORIGINAL-URL:https://proximaprova.com.br
X-WR-CALDESC:Eventos para Proxima Prova
REFRESH-INTERVAL;VALUE=DURATION:PT1H
X-Robots-Tag:noindex
X-PUBLISHED-TTL:PT1H
BEGIN:VTIMEZONE
TZID:America/Sao_Paulo
BEGIN:STANDARD
TZOFFSETFROM:-0300
TZOFFSETTO:-0300
TZNAME:-03
DTSTART:20240101T000000
END:STANDARD
END:VTIMEZONE
BEGIN:VEVENT
DTSTART;TZID=America/Sao_Paulo:20250622T063000
DTEND;TZID=America/Sao_Paulo:20250622T130000
DTSTAMP:20260425T074404
CREATED:20250503T110639Z
LAST-MODIFIED:20250604T123735Z
UID:26163-1750573800-1750597200@proximaprova.com.br
SUMMARY:1º GP Guarapiranga de Ciclismo
DESCRIPTION:1º GP Guarapiranga de Ciclismo\nData: 22 de junho de 2025\nLocal: Rua Ludovico Roca\, 13 – Parque do Terceiro Lago\, São Paulo\n \nLista Parcial de Inscritos\n \nDetalhes da Prova:\n•Circuito de 4 km\n•Serão 10 voltas completas (voltas incompletas não serão contabilizadas)\n \nLargadas:\n1ª Bateria – 07h00\n•Elite\n•Master\n \n2ª Bateria – 07h40\n•Feminina Master\n•Open MTB\n•Juvenil\n \nCategorias e Premiação:\nOs cinco primeiros colocados de cada categoria receberão troféu:\n•Masculino Elite\n•Masculino Sub-30 (19 a 30 anos)\n•Masculino Master A (30 a 40 anos)\n•Masculino Master B (40 a 50 anos)\n•Masculino Master C (50 anos ou mais)\n•Masculino Júnior (15 a 18 anos)\n•Feminino Master (14 a 30 anos)\n•Feminino Master (30 a 60 anos)\n \nMTB de Estrada – Premiação Geral:\n•Masculino\n•Feminino\n \nTodos os participantes receberão:\n•Medalha de participação\n•Kit com placa\, número de costas e número para capacete\n \nOrganização e Regras:\n \n•Em caso de dúvidas\, será obrigatória a apresentação do Strava\n•A premiação ocorrerá somente após o encerramento de todos os pódios\n \nPolítica de Inscrição:\n•Em caso de cancelamento\, o valor da inscrição não será reembolsado\, pois o evento não possui fins lucrativos. Toda verba será investida na organização da prova\n \nSegurança e Estrutura:\n•Ambulância no local\n•Equipe de bombeiros\n•Evento autorizado e fiscalizado pela Federação Paulista de Ciclismo\n•Todas as exigências legais e de segurança serão cumpridas
URL:https://proximaprova.com.br/evento/gp-guarapiranga-ciclismo/
LOCATION:Praça do Terceiro Lago\, R. Ludovíco Roca\, 13 - Parque do Terceiro Lago\, São Paulo\, São Paulo\, 04870-020\, Brazil
ATTACH;FMTTYPE=image/png:https://proximaprova.com.br/wp-content/uploads/2025/05/SUPERE-DESAFIOS-COLHA-RESULTADOS-1.png
END:VEVENT
END:VCALENDAR