BEGIN:VCALENDAR
VERSION:2.0
PRODID:-//Proxima Prova - ECPv6.15.13.1//NONSGML v1.0//EN
CALSCALE:GREGORIAN
METHOD:PUBLISH
X-ORIGINAL-URL:https://proximaprova.com.br
X-WR-CALDESC:Eventos para Proxima Prova
REFRESH-INTERVAL;VALUE=DURATION:PT1H
X-Robots-Tag:noindex
X-PUBLISHED-TTL:PT1H
BEGIN:VTIMEZONE
TZID:America/Sao_Paulo
BEGIN:STANDARD
TZOFFSETFROM:-0300
TZOFFSETTO:-0300
TZNAME:-03
DTSTART:20240101T000000
END:STANDARD
END:VTIMEZONE
BEGIN:VEVENT
DTSTART;TZID=America/Sao_Paulo:20250629T063000
DTEND;TZID=America/Sao_Paulo:20250629T150000
DTSTAMP:20260425T074251
CREATED:20250312T215815Z
LAST-MODIFIED:20250627T195646Z
UID:26061-1751178600-1751209200@proximaprova.com.br
SUMMARY:Desafio Pedal Ipava Bikers da Serra 2025
DESCRIPTION:>>> INSCRIÇÕES ENCERRADAS <<< \nLista PARCIAL de Inscritos \nO EVENTO \nVenha participar do Desafio Pedal Ipava Bikers da Serra de MTB 2025\, Este evento de mountain bike\, que ocorrerá no dia 29 de junho em Itapecerica da Serra\, é uma oportunidade perfeita para ciclistas de todos os níveis desfrutarem das pitorescas trilhas e estradas da região. Reconhecida por sua beleza natural\, Itapecerica da Serra oferece um cenário encantador para uma prova de MTB que combina diversão\, aventura e a paixão pelo ciclismo. \nAs rotas foram cuidadosamente planejadas para proporcionar uma experiência agradável\, sem deixar de oferecer desafios moderados que enriquecem a corrida. O evento é ideal tanto para quem busca testar seus limites quanto para aqueles que desejam apenas desfrutar de um dia ao ar livre\, pedalando por caminhos rodeados pela natureza. \nO Desafio pedal Ipava Bikers da Serra de MTB 2025 não é apenas uma competição\, mas uma celebração do espírito esportivo e da comunidade de mountain bike\, oferecendo uma oportunidade única para compartilhar momentos de alegria e superação pessoal. \nData e local do evento\nData dia 29 de junho\nLocal Av Dona Anila\, 1001\nBairro Olaria Itapecerica da Serra\, mesmo local do rodeio de Itapecerica \nCategorias e Percursos: \nCategoria Pro\nMasculino: \n– Distância: 46 km\n– Altimetria: 1350 metros\n– Categorias: \n\nSub 25 – 16 a 24 anos\nSub 30 – 25 a 29 anos\nSub 35 – 30 a 34 anos\nSub 40 – 35 a 39 anos\nSub 45 – 40 a 44 anos\nSub 50 – 45 a 49 anos\nSub 55 – 50 a 54 anos\nOver 55 de 55 a cima\nDupla masculina idade livre\, dupla camisas iguais\n\nFeminino: \n\nIdade Livre\n\nCategoria Sport:\n– Distância: 30 km\n– Altimetria: 800 metros \nMasculino: \n\nSub 25 – 16 a 24 anos\nSub 30 – 25 a 29 anos\nSub 35 – 30 a 34 anos\nSub 40 – 35 a 39 anos\nSub 45 – 40 a 44 anos\nSub 50 – 45 a 49 anos\nSub 55 – 50 a 54 anos\nOver 55 de 55 a cima\nMasculino peso pesado acima de 95 kilos\nDupla mista idade livre\nDupla camisas iguais\n\nFeminino  \n\nSub 40 de 16 a 39 anos\nOver 40 de 40 anos a cima\n\nCategoria Fun: \n– Distância: 15 km\n– Altimetria: 300 metros\n– Categorias: \n\nMasc. Junior – 12 A 17 anos\nMasc. Sub 40 de 18 a 39\nMasc. Over 40 de 40 anos a cima\nFem. Sub 40 de 16 a 39 anos\nFem. Over 40 de 40 anos a cima\n\nKids percurso dentro do evento com medalha de participação \nPremiação Geral\nSomente\, masculina Pro e Sport\nNão terá geral feminina!\n5 primeiros da geral saem da categoria de idade \nPremiação: \n– Troféus para os cinco primeiros de cada categoria por idade. \n– Todos os participantes receberão medalha de participação 🏅 \nInscrições:\n– Primeiro Lote: R$ 80\,00 até 15/06\n– Segundo Lote: R$ 100\,00 até 16/06 \nWhatsapp do evento \nEntre no grupo do whatsapp do evento e fique por dentro das novidades e notícias. \nhttps://chat.whatsapp.com/Jkp9DkxtIQaKClWlTNY7Fm \nou pelo Instagram \nhttps://www.instagram.com/cseventosesportivossp?igsh=bGNvNjBpaG16NTZu&utm_source=qr \nProgramação: \n06:30 – Início da entrega dos kits\n08:30 – Largada da categorias Pro\n8:45 – Largada da categorias Sport\n09:00 – Largada da categorias Fun \n12:30 – Início da Premiação \nTroca de Categoria \nPara os atletas que desejam mudar de categoria e ainda não finalizaram o pagamento da inscrição\, é possível realizar uma nova inscrição selecionando a categoria desejada. No entanto\, para aqueles que optarem pela mudança de categoria\, será aplicada uma taxa adicional de R$ 10\,00. Este valor deve ser encaminhado antes de proceder com a alteração da categoria. \nSeguro Atleta\nTodos os atletas que participarem do evento estarão cobertos pelo seguro atleta. \nPolítica de Cancelamento:\n– Cancelamentos e trocas de inscrição são permitidos até 5 dias anterior ao evento. A política é estabelecida para garantir a organização eficaz e a melhor experiência para todos. \nTermo de Responsabilidade:\n– Ao inscrever-se\, o participante declara estar ciente dos riscos do esporte\, da condição física necessária\, e assume toda a responsabilidade por sua participação\, isentando os organizadores de qualquer responsabilidade por eventuais danos. \nJunte-se a nós no Desafio Pedal Ipava Bikers da Serra de MTB e desfrute de uma experiência de ciclismo memorável em um dos mais belos cenários de São Paulo. Seja para competir ou para curtir um dia incrível de pedal\, este evento é perfeito para todos os amantes do MTB. Inscreva-se hoje e prepare-se para um dia espetacular!
URL:https://proximaprova.com.br/evento/desafio-pedal-ipava-bikers-da-serra-2025/
LOCATION:Rodeio Itapecerica\, Av Dona Anila\, 1001\, Itapecerica da Serra\, São Paulo\, 06859-000\, Brazil
ATTACH;FMTTYPE=image/jpeg:https://proximaprova.com.br/wp-content/uploads/2025/03/118b8f04-a6c9-4532-9338-8b1d26eabe34.jpeg
END:VEVENT
END:VCALENDAR