BEGIN:VCALENDAR
VERSION:2.0
PRODID:-//Proxima Prova - ECPv6.15.13.1//NONSGML v1.0//EN
CALSCALE:GREGORIAN
METHOD:PUBLISH
X-WR-CALNAME:Proxima Prova
X-ORIGINAL-URL:https://proximaprova.com.br
X-WR-CALDESC:Eventos para Proxima Prova
REFRESH-INTERVAL;VALUE=DURATION:PT1H
X-Robots-Tag:noindex
X-PUBLISHED-TTL:PT1H
BEGIN:VTIMEZONE
TZID:America/Sao_Paulo
BEGIN:STANDARD
TZOFFSETFROM:-0300
TZOFFSETTO:-0300
TZNAME:-03
DTSTART:20250101T000000
END:STANDARD
END:VTIMEZONE
BEGIN:VEVENT
DTSTART;TZID=America/Sao_Paulo:20260301T060000
DTEND;TZID=America/Sao_Paulo:20260301T160000
DTSTAMP:20260425T110523
CREATED:20251212T181059Z
LAST-MODIFIED:20260222T195719Z
UID:27763-1772344800-1772380800@proximaprova.com.br
SUMMARY:TEMPERMAX MTB CUP 2026
DESCRIPTION:TEMPERMAX MTB CUP 2026 • Regulamento\nAo se inscrever\, o atleta declara ciência e concordância com as regras do evento\, incluindo responsabilidades\, conduta\, segurança e direito de imagem. \n⛰️ XCM (Maratona)📅 3 etapas 👥 300 vagas 🔞 14+ (conforme categoria) ⏱️ Chip descartável\n📅 Lista Inscritos✨ Resumo📅 Etapas📝 Inscrições👕 Kit🧩 Categorias🚴 Regras🏁 Resultados🧾 Termo\n\n\n  \n\n✨ \nResumo rápido (leitura em 1 minuto)\n\n\n\nFormato: Maratona (XCM)\, estradas de terra e trechos de trilha; circuito aberto ao trânsito.\nSegurança: capacete homologado obrigatório; proibido fone de ouvido\, música alta e uso de celular na pista.\nConduta: sem apoio mecânico/alimentar e sem acompanhamento no trajeto; cortar caminho ou pegar carona = desclassificação.\nEquipamento: pneus com cravos (slick proibido); numeral não pode ser alterado/recortado.\nInscrições: apenas online (www.proximaprova.com.br)\, limite 300 vagas; sem reembolso após efetivação (exceto 7 dias – CDC).\nPremiação: troféu para 5 primeiros por categoria; sorteio de bike OGGI 7.3 por etapa (presença obrigatória no sorteio).\n\nImportante: vias abertas ao trânsito. Respeite as leis e redobre a atenção durante todo o percurso.\n\n\n\n  \n\n📅 \nEtapas e programação\n\n\n\n\n1ª etapa\n01/03/2026\n\n\n2ª etapa\n14/06/2026\n\n\n3ª etapa\n18/10/2026\n\n\n \nProgramação no dia de cada etapa (todas as categorias largam juntas\, pontualmente): \n\n\n\n\nHorário\nAtividade\n\n\n\n\n07:30\nAlinhamento categorias PRÓ\n\n\n07:50\nLargada E-BIKE PRÓ\n\n\n08:00\nLargada categorias PRÓ\n\n\n08:15\nAlinhamento categorias SPORT\n\n\n08:20\nLargada E-BIKE SPORT\n\n\n08:30\nLargada categorias SPORT\n\n\n11:30\nInício da premiação\n\n\n\n\n\n\n\n  \n\n📝 \nInscrições\, prazos e valores\n\n\n\n\nOnde\nSomente online: www.proximaprova.com.br\n\n\nLimite técnico\n300 participantes\n\n\nSeguro\nInscritos cobertos por seguro acidentes\n\n\n \nPrazos de inscrição \n\nEtapa 1: 20/12/2025 a 22/02/2026\nEtapa 2: 02/03/2026 a 08/06/2026\nEtapa 3: 15/06/2026 a 12/10/2026\n\n \nValores \n\nValor por participante: R$ 149\,00\nCombo 3 etapas: R$ 347\,00 kit por etapa + kit extra (até 22/02)\n\nProgressivo (inscrição individual) \n\nEtapa 2: R$ 139\,00 (se participou da Etapa 1)\nEtapa 3: R$ 129\,00 (se participou da Etapa 1 e 2)\n\n📞 Equipes (5+) e desconto idoso (50%): solicitar via WhatsApp (15) 99774-7254.\n📌 Lista final de inscritos: divulgada 2 dias após o encerramento das inscrições.\nReembolso: após efetivação\, não há reembolso e nem fornecimento de kit em caso de não participação\, exceto pedidos dentro de 7 dias após a inscrição (Art. 49 do CDC – Lei 8078/90).\n\nRegras importantes de inscrição \n\nInscrição é pessoal; não é aceita inscrição em mais de uma categoria.\nApós inscrito\, não são aceitas trocas de categoria.\nComprovante de pagamento é único (organização não possui cópia).\nCategorias com menos de 3 inscritos podem não ocorrer\, com remanejamento conforme regulamento.\nIdade de referência: 31/12/2026.\n\n\nTransferência de inscrição\nPermitida até 10 dias antes da prova. Após isso\, não será permitida. Se envolver mudança de categoria\, depende de disponibilidade de vagas. Solicitar via WhatsApp (15) 99774-7254 (acerto financeiro é responsabilidade dos atletas).\n\n\n\n  \n\n👕 \nKit do atleta e retirada\n\n\nKit: numeral do atleta + 1 camiseta. O conteúdo deve ser conferido no ato; não serão aceitas reclamações posteriores. \n\n\n\n\nEtapa\nPeríodo de retirada\nLocal\n\n\n\n\nEtapa 1\n23 a 27/02/2026\nLoja Ciclonel – Av. Claudio Pinto do Nascimento\, 1229 – Votorantim\n\n\nEtapa 2\n08 a 12/06/2026\nLoja Ciclonel – Av. Claudio Pinto do Nascimento\, 1229 – Votorantim\n\n\nEtapa 3\n13 a 16/10/2026\nLoja Ciclonel – Av. Claudio Pinto do Nascimento\, 1229 – Votorantim\n\n\n\n\nRetirada somente pelo atleta com protocolo\, recibo de pagamento e RG. Entrega para equipes somente mediante combinação prévia via WhatsApp (15) 99774-7254.\n\n\n\n  \n\n🧩 \nCategorias (PRÓ e SPORT)\n\n\nResumo: PRÓ (Percurso Longo) • SPORT (Percurso Curto).\nIdade de referência: 31/12/2026.\n \nPRÓ (9 categorias) \n\n\n\n\nCód.\nCategoria\nFaixa etária\n\n\n\n\nCAT 1\nPro Masc Cadete\n18 a 22\n\n\nCAT 2\nPro Masc Expert\n23 a 29\n\n\nCAT 3\nPro Masc Master A1\n30 a 34\n\n\nCAT 4\nPro Masc Master A2\n35 a 39\n\n\nCAT 5\nPro Masc Master B1\n40 a 44\n\n\nCAT 6\nPro Masc Master B2\n45 a 49\n\n\nCAT 7\nPro Masc Senior A\n50+\n\n\nCAT 8\nPro Feminino\n18+\n\n\nCAT 9\nE-Bike Masculino\nIdade livre (upgrade/desbloqueio ou bateria extra)\n\n\n\n\n \nSPORT (13 categorias) \n\n\n\n\nCód.\nCategoria\nFaixa etária\n\n\n\n\nCAT 9\nSport Masc Juvenil\n14 a 17\n\n\nCAT 10\nSport Masc Expert\n18 a 33\n\n\nCAT 11\nSport Masc Cadete\n34 a 39\n\n\nCAT 12\nSport Masc Master C\n40 a 54\n\n\nCAT 13\nSport Masc Senior B\n55 a 59\n\n\nCAT 14\nSport Masc Senior C\n60+\n\n\nCAT 15\nSport Fem Juvenil\n14 a 17\n\n\nCAT 16\nSport Fem Expert\n18 a 29\n\n\nCAT 17\nSport Fem Master\n30 a 39\n\n\nCAT 18\nSport Fem Senior\n40 a 49\n\n\nCAT 19\nSport Fem Veterana\n50+\n\n\nCAT 20\nSport PCD\nNascidos até 2006 (18+)\, membros inferiores ou superiores\n\n\nCAT 21\nE-Bike Masc/Fem\nIdade livre (configuração original de fábrica)\n\n\n\n\n\n\n\n\nFUN (07 categorias) \n\n\n\n\nCód.\nCategoria\nFaixa etária\n\n\n\n\nCAT 22\nFun Masc Juvenil\n14 a 17\n\n\nCAT 23\nFun Feminino Junior\n14 a 17\n\n\nCAT 25\nFun Masc Sub 30\n18 a 29\n\n\nCAT 26\nFun Masc Sub 40\n30 a 39\n\n\nCAT 27\nFun Masc Sub 50\n49 a 49\n\n\nCAT 28\nFun Masc Over 50\n50+\n\n\nCAT 29\nFun Open Feminino\nLivre\n\n\n \n\n\n\n\n\n\n\n\n♿ PCD (Para Desportista) \nSomente para atletas com deficiência severa em membros superiores ou inferiores (paralisia ou amputação). Solicitar inscrição via e-mail: mtbpiedade@hotmail.com. \n\nNome completo\nCópias de RG e CPF\nLaudo médico (validade a partir de 01/01/2026)\, com CID e validade\nTermo de Responsabilidade Individual\n\nAssunto: “Cadastro para ATLETA Para Desportista”. Inscrição confirmada somente após análise e parecer final. \n\n\n\n  \n\n🚴 \nRegras\, circuito e responsabilidades\n\n\nEssenciais: capacete obrigatório; pneus com cravos (slick proibido); sem apoio; sem celular/fone; numeral sem alterações; vias abertas ao trânsito.\n \nRegras (principais) \n\nChegar com 60 min de antecedência para instruções finais.\nParticipação individual; proibido auxílio de terceiros e uso de tecnologia sem autorização por escrito.\nProibido apoio e acompanhamento no trajeto (desclassificação).\nProibido cortar caminho\, pegar carona e acessar áreas por locais não sinalizados (desclassificação).\nE-bike somente nas categorias específicas; atleta pode seguir a pé desde que com a bicicleta.\nAutossuficiência: levar água e comida; recomendado sistema de hidratação.\n\n \nCircuito \n\nTrajeto sinalizado; pode incluir trilhas\, charcos\, rios\, pastos e vias públicas.\nQuilometragem pode mudar; alterações comunicadas no dia e no site oficial.\nCircuito aberto ao trânsito: cuidado redobrado.\nOrganização pode alterar/reduzir trajeto por risco/mau tempo e suspender a prova por força maior.\n\n \nResponsabilidades do atleta (resumo) \n\nAcompanhar e-mails e site oficial para atualizações.\nLevar alimentos e líquidos; água fornecida é exclusiva para beber.\nResponsabilidade por equipamento e objetos pessoais; recomenda-se seguro do equipamento e convênio médico.\nManter identificação e pulseira visíveis; preencher dados no verso do numeral.\n\n\n\n\n  \n\n🏁 \nResultados\, pontuação\, premiação e penalizações\n\n\nResultados: primeiros colocados por categoria até 1h após chegada do último ciclista ou tempo limite; resultado final completo até 3 dias no site. \n\n\n\n\nColocação\nPontos\nColocação\nPontos\n\n\n\n\n1º\n80\n6º\n35\n\n\n2º\n70\n7º\n30\n\n\n3º\n60\n8º\n25\n\n\n4º\n45\n9º\n20\n\n\n5º\n40\n10º\n18\n\n\n11º\n15\n16º\n5\n\n\n12º\n13\n17º\n4\n\n\n13º\n10\n18º\n3\n\n\n14º\n8\n19º\n2\n\n\n15º\n6\n20º\n1\n\n\n\n\n \nPremiação \n\nTroféus para os 5 primeiros de todas as categorias; sem premiação em dinheiro.\nPremiação imediatamente após a prova; proibido levar bicicletas/faixas/banners/propaganda ao pódio.\nPremiado deve comparecer quando chamado; ausência implica perda do prêmio e repasse ao próximo classificado.\n\n🎁 OGGI Bikes\nSorteio de 1 OGGI 7.3 por etapa (número da plaqueta). Sorteio manual após a premiação. O sorteado deve estar presente e tem 3 minutos para reclamar. Equipe com maior somatória de participantes nas 3 etapas recebe 1 OGGI 7.3.\n \nPenalizações (tempo) \n\n\n\n\nInfração\nPenalidade\n\n\n\n\nLevantar bicicleta acima dos quadris para passar à frente no alinhamento\n+10 min e largada na última fila\n\n\nQueimar a largada\n+5 min\n\n\nPular a grade de isolamento do público durante o alinhamento\n+5 min\n\n\n\n\nDesclassificação (exemplos): sem capacete\, contramão\, sem numeral\, informação falsa\, cortar caminho\, pegar carona\, uso de fones/celular\, apoio durante a prova\, alterar numeral\, jogar lixo fora do local indicado\, tumulto/desrespeito.\n\n\n\n\n⚖️ \nDireito de imagem\, recursos e decisões\n\n\nDireito de imagem: o evento será registrado em vídeo e fotografia. Quem tiver restrição deve notificar por escrito no ato da inscrição; caso contrário\, autoriza uso gratuito e irrestrito. \n📷 AVISO: a FT3 é a única empresa credenciada para comercializar as fotos dos participantes.\n \nRecursos: aceitos durante a prova ou até 15 minutos após resultado oficial\, por escrito\, na secretaria\, com depósito de R$ 200\,00. Procedente: devolução; improcedente: doação. \n \nComissão organizadora: pode suspender\, adiar ou cancelar a prova por segurança/força maior. Em adiamento com nova data\, não há devolução. Em cancelamento sem nova data\, inscritos devem solicitar reembolso. Alterações no regulamento podem ocorrer sem aviso prévio; dúvidas/omissões são decididas soberanamente. \n\n\n\n  \n\n🧾 \nTermo de responsabilidade (resumo)\n\n\n\nCiência de que MTB é esporte de risco (quedas\, acidentes\, lesões e condições naturais).\nDeclara boa saúde e aptidão física e mental para participar.\nResponsabilidade por equipamento\, condição física/mental e kit básico de reparos.\nCompromisso com uso de capacete e itens de segurança (óculos/luvas etc.).\nIsenção de organizadores/patrocinadores por acidentes\, lesões ou morte.\nAssume despesas médicas e hospitalares.\nConcede direito de uso de imagem e som para divulgação.\nCompromete-se a seguir orientações da organização.
URL:https://proximaprova.com.br/evento/tempermax2026_e1/
LOCATION:MARINA M3\, Estrada municipal\, Piedade - SP\, Piedade\, São Paulo\, 18107-000\, Brazil
ATTACH;FMTTYPE=image/jpeg:https://proximaprova.com.br/wp-content/uploads/2025/12/Banner_Site_Tempermax_CUP1_page-0001-scaled.jpg
END:VEVENT
BEGIN:VEVENT
DTSTART;TZID=America/Sao_Paulo:20260424T070000
DTEND;TZID=America/Sao_Paulo:20260424T160000
DTSTAMP:20260425T110523
CREATED:20260130T224718Z
LAST-MODIFIED:20260205T115420Z
UID:28064-1777014000-1777046400@proximaprova.com.br
SUMMARY:3 Horas MTB 2026
DESCRIPTION:  \n\n\n18ª Edição Oficial \n3 Horas de\nMountain Bike\nPiedade / SP • 24 de Maio de 2026 \n\nMTB\n\n\n\n📍\nLocalização\nParque Ecológico Collemar de Miranda Botto\n\n\n🏁\nLargada\n09:00h (24/05/2026)\n\n\n🚵\nPercurso\nCircuito ~ 4km por volta\n\n\n📞\nContato\n(15) 9 9774-7254 (Rony)\n\n\n\n📅 Programação Completa\n\n\nSábado – 23/05/2026\n15:00h às 17:00h: Pista liberada para reconhecimento do percurso. \n\n\nDomingo – 24/05/2026\n\n07:00h às 08:00h: Entrega de KITS na arena do evento.\n08:00h: Abertura da arena para alinhamento de largada.\n09:00h: Largada Oficial.\n12:00h: Término da prova.\n12:30h: Início da premiação.\n\n\n\n🚵 Categorias e Inscrições\nAtletas com idade igual ou superior a 14 anos (em 31/12/2026). \n\nDUPLAS: Masculino e Mista – Idade Livre.\nSOLO FEMININO: Idade Livre.\nSOLO MASCULINO: Sub 25\, 30\, 35\, 40\, 45\, 50\, 55 e Over 55.\n\n*Categorias com menos de 05 participantes serão remanejadas para a categoria abaixo ou acima (média de idade). \n\n💰 Valores de Inscrição\n\n\n\n\nLote / Período\nValor por Participante\n\n\n\n\n01 de Janeiro a 31 de Março\nR$ 129\,00\n\n\n01 de Abril a 30 de Abril\nR$ 139\,00\n\n\n01 de Maio a 20 de Maio\nR$ 149\,00\n\n\n\n\n👕 Camiseta Opcional: Valor de R$ 25\,00 a ser confirmado no ato da inscrição. \n\n\n\n⚙️ A Prova e Circuito\n\nTipo: Disputada no sistema XCO em circuito fechado.\nVencedor: Quem completar o maior número de voltas em 3 horas.\nTerreno: Estradas de terra\, trilhas e passarelas de madeira.\nRevezamento: Mínimo permitido 60% – 40%. A troca ocorre na área de transição após toque entre os participantes.\n\n\n\n🛡️ Segurança e Equipamento\n\nObrigatório: Uso de capacete.\nRecomendado: Luvas\, óculos\, telefone celular e reservatórios para água.\nManutenção: Indica-se levar ferramentas\, câmaras de ar e bomba.\nSeguro: Será contratado Seguro Acidente para todos os inscritos.\n\n\n\n\n⚠️ Regras Gerais e Punições\n\n• Proibido jogar lixo de qualquer espécie na mata ou áreas públicas sob pena de desclassificação. \n• Obedecer a orientação dos staffs; o descumprimento gera desclassificação. \n• Apoio particular fora da área delimitada levará à desclassificação do atleta. \n• O participante deve ser autossuficiente em comida e bebida ao longo da prova. \n• É responsabilidade do atleta ter convênio médico para assistência em caso de acidente. \n• Não haverá devolução do valor da inscrição em caso de desistência após retirada do kit. \n\n\n\n🏆 Premiação\n\n\n🥇\nGERAL SOLO\nTroféu para os cinco primeiros colocados (não concorrem por categoria). \n\n\n🥈\nCATEGORIAS\nTroféu para os cinco primeiros de todas as categorias. \n\n\n🏅\nMEDALHAS\nPara todos os inscritos que completarem a prova. \n\n\n*Bikers não presentes no pódio não terão direito à premiação. \n\n\n\n3 HORAS DE MTB – 18ª EDIÇÃO \nEvento de propriedade da Bike Aventura \nAo se inscrever\, o participante concorda automaticamente com todas as regras deste regulamento. \n\n\n 
URL:https://proximaprova.com.br/evento/3-horas-mtb-2026/
LOCATION:Parque Ecológico Municipal de Piedade/SP\, R. Franciscoco Pinto Camargo\, 488\, Nova Olinda\, Piedade\, São Paulo\, 18170-000\, Brasil
ATTACH;FMTTYPE=image/png:https://proximaprova.com.br/wp-content/uploads/2026/01/3horas_mtb_1400x600.png
END:VEVENT
END:VCALENDAR