BEGIN:VCALENDAR
VERSION:2.0
PRODID:-//Proxima Prova - ECPv6.15.13.1//NONSGML v1.0//EN
CALSCALE:GREGORIAN
METHOD:PUBLISH
X-ORIGINAL-URL:https://proximaprova.com.br
X-WR-CALDESC:Eventos para Proxima Prova
REFRESH-INTERVAL;VALUE=DURATION:PT1H
X-Robots-Tag:noindex
X-PUBLISHED-TTL:PT1H
BEGIN:VTIMEZONE
TZID:America/Sao_Paulo
BEGIN:STANDARD
TZOFFSETFROM:-0300
TZOFFSETTO:-0300
TZNAME:-03
DTSTART:20220101T000000
END:STANDARD
END:VTIMEZONE
BEGIN:VEVENT
DTSTART;TZID=America/Sao_Paulo:20230212T080000
DTEND;TZID=America/Sao_Paulo:20230212T170000
DTSTAMP:20260425T180041
CREATED:20221201T112925Z
LAST-MODIFIED:20230211T164358Z
UID:21809-1676188800-1676221200@proximaprova.com.br
SUMMARY:Maratona SX de MTB
DESCRIPTION:>>> INSCRIÇÕES ENCERRADAS <<< \nLista de Inscritos \n>>> Inscritos até o momento <<< \nA Prova \nVem ai a primeira maratona de MTB na cidade de Mairinque/SP que percorrerá cerca de 32 km em estradas de terra na bela região rural da cidade. A prova que será no estilo maratona prevê um trajeto pensado para agradar os ciclistas que curtem um belo visual sem deixar de lado aqueles que curtem acelerar e se desafiar. Desafio e beleza é o que não falta nesta prova. Além disso o evento contará com uma bela infraestrutura\, pois a base do espetáculo será no Clube do Sindicato dos Metalúrgicos de Mairinque. E não para por ai\, pois teremos música ao vivo com a banda Old Class uma bela costela de chão servida e preparada especialmente pra vocês. \nAh\, e não podemos esquecer que todos os inscritos estarão concorrendo a uma bike Sense que será sorteada pela RS Bike Radical Sport. \n \nMotivos não faltam para vocês ingressar nesta jornada com a gente. Bora lá.      \n Valor da Inscrição \n\nR$ 89\,00 para todas as categorias com exceção a categoria PCD que é isenta.\nMulheres com 50% de desconto.\n\nLocal do Evento \n\nClube dos Sindicato dos Metalúrgicos de Mairinque\n\nModalidade de Prova \n\nXCM – Maratona\n\nCategorias \n\nMasculino Sub 25 (19 até 24 anos)\nMasculino Sub 30 (25 até 29 anos)\nMasculino Sub 35 (30 até 34 anos)\nMasculino Sub 40 (35 até 39 anos)\nMasculino Sub 45 (40 até 44 anos)\nMasculino Sub 50 (45 até 49 anos)\nMasculino Sub 55 (50 até 54 anos)\nFeminino Sub 30 (Menos de 30 anos)\nFeminino Over 30 (30 anos ou mais)\nDupla Masculina\nDupla Feminina\n\nSeguro Atleta \nTodos os atletas que participarem do evento estarão cobertos pelo seguro atleta que foi contratado pela organização. \nPremiação \n\nOs cinco(5) primeiros colocados de cada categoria serão premiados com troféus e todos os participantes receberão medalha de participação.\n\nPercurso \n\n32 km – Em breve link\n\nProgramação \n\n07:00 – Entrega dos kits\n08:30 – Alinhamento de todas as categorias\n09:00 – Largada \n13:00 – Inicio da premiação\n15:00 – Encerramento do evento.\n\nResponsabilidade Social \nAdicionalmente ao valor da inscrição\, pedimos que todos os inscritos doem 1 quilo de alimento que será destinado a uma das instituições da região.
URL:https://proximaprova.com.br/evento/maratona-sx-de-mtb/
LOCATION:CLUBE SINDICATO METALURGICOS – MAIRINQUE\, Av. Alberto Cocozza\, S/N - Centro\, Mairinque\, São Paulo\, 18120000\, Brasil
ATTACH;FMTTYPE=image/png:https://proximaprova.com.br/wp-content/uploads/2022/12/Prancheta-1@4x.png
END:VEVENT
END:VCALENDAR