BEGIN:VCALENDAR
VERSION:2.0
PRODID:-//Proxima Prova - ECPv6.15.13.1//NONSGML v1.0//EN
CALSCALE:GREGORIAN
METHOD:PUBLISH
X-WR-CALNAME:Proxima Prova
X-ORIGINAL-URL:https://proximaprova.com.br
X-WR-CALDESC:Eventos para Proxima Prova
REFRESH-INTERVAL;VALUE=DURATION:PT1H
X-Robots-Tag:noindex
X-PUBLISHED-TTL:PT1H
BEGIN:VTIMEZONE
TZID:America/Sao_Paulo
BEGIN:STANDARD
TZOFFSETFROM:-0300
TZOFFSETTO:-0300
TZNAME:-03
DTSTART:20220101T000000
END:STANDARD
END:VTIMEZONE
BEGIN:VEVENT
DTSTART;TZID=America/Sao_Paulo:20230402T080000
DTEND;TZID=America/Sao_Paulo:20230402T150000
DTSTAMP:20260425T152016
CREATED:20230228T204929Z
LAST-MODIFIED:20230306T111449Z
UID:22338-1680422400-1680447600@proximaprova.com.br
SUMMARY:Copa ACE MTB - 2023 - Etapa 2
DESCRIPTION:LISTA DE INSCRITOS \nRegulamento Copa ACE de Mountain Bike 2023\nart 1 – Poderão participar da Copa todos os atletas devidamente inscritos.\nart 2 – É ato de desclassificação da Copa: informações falsas na hora da inscrição\,\ncortar caminho ou agir de má fé contra os outros atletas\, segurar ou atrapalhar atletas\nde outras equipes em prol da equipe.\nÉ EXPRESSAMENTE proibido fazer “pace” de qualquer forma\, ou qualquer ajuda extra\nque gere vantagem sobre demais participantes\, estando ou não inscrito na etapa.\nSalvo na Categoria Dupla Mista\, onde um membro da dupla pode auxiliar o outro\n“empurrando” e ainda assim\, sem nenhum artefato a não ser o próprio braço.\nart 3 – Não acatar qualquer decisão\, tumultuar\, e desrespeitar qualquer membro da\norganização. Qualquer dessas penalizações resulta em perca de pontos até expulsão\nda Copa e punição em 6 meses em qualquer evento promovido pela Ace Oficina Bike\nShop / Bike Aventura.art 4 – Obrigatório o uso de bicicletas de estilo mountain bike\, capacete;\nart 5 – Em caso de empate de pontuação\, o 1º critério para desempate é o maior\nnúmero de etapas disputadas na Copa\, e o 2º critério\, a melhor colocação na última\netapa.\nart 6 – Não é permitida a troca de bicicletas durante o percurso em caso de quebra de\nequipamento.\nart 7 – A data base para cálculo da categoria é idade completa no dia 31 de Dezembro\nde 2023.\nart 8 – Obrigatório subir ao pódio com o uniforme. É proibido subir ao pódio atletas sem\ncamisa\, descalço\, ou com animais;\nCaso o atleta não esteja presente durante a premiação na Etapa\, um membro da\nequipe poderá receber a premiação em seu lugar. A organização não fará nenhum tipo\nde entrega após a premiação.\nart 9 – Só serão premiados ao final da Copa os atletas que estiverem presentes na\nEtapa.\nart 10 – O atleta que participar de todas as etapas\, receberá os 5 pontos de\nbonificação.\nart 11 – É proibido o tráfego de carro/moto de apoio de atletas durante o percurso. É\npermitido somente o tráfego atrás da ambulância e carro de apoio da organização do\nevento\, ou seja atrás do último competidor.\nart 12 – É proibido o uso de guidão com clipe.\nart 13 – Os atletas INSCRITOS que não completarem o percurso ou não largarem\,\nsomarão apenas 1 (um) ponto no evento.\nart 14 – Só serão aceitos recursos com no prazo máximo de 48h do encerramento da\netapa.\nart 15 – As inscrições encerram-se sempre 4 dias antes da data de cada etapa. A\ndesistência de participação deverá ser informada até 7 dias antes da etapa\, para que\nhaja reembolso integral desde que o kit inscrição não tenha sido retirado. A inscrição\npoderá ser remanejada para etapa seguinte\, e se remanejada uma vez\, não haverá\npossibilidade de novo remanejamento\, nem desistência\, mesmo que dentro do prazo\npermitido.\nart 16 – a inscrição só será confirmada após a confirmação de pagamento e dará\ndireito a participação e concorrer a premiação anunciada.\nart 17 – kit de inscrição – todos os inscritos receberão um kit de inscrição contendo\numa camiseta disponível no estoque\, uma placa de identificação.\nInscrições limitadas a 250 vagas por etapa.\nart 18 – tabela de valores e prazos:\nEtapa 1 – dia 26/02/2023: 1º lote R$89\,00 de 01/01/2023 até dia 10/02/2023\n2º lote R$99\,00 de 11/02/2023 até 22/02/2023 ou restante das vagas.\nEtapa 2 – dia 02/04/2023: 1º lote R$89\,00 de 27/02/2023 até dia 15/03/2023\n2º lote R$99\,00 de 16/03/2023 até 29/03/2023 ou restante das vagas.\nEtapa 3 – dia 18/06/2023: 1º lote R$89\,00 de 03/04/2023 até dia 31/05/2023\n2º lote R$99\,00 de 01/06/2023 até 14/06/2023 ou restante das vagas.\nEtapa 4 – dia 20/08/2023: 1º lote R$89\,00 de 19/06/2023 até dia 31/07/2023\n2º lote R$99\,00 de 01/08/2023 até 16/08/2023 ou restante das vagas. \nKIT ACE COMBO – de 01/01/2023 até 22/02/2023 – R$315\,00. Na compra do Kit Ace\nCombo\, contendo um boné\, uma camiseta Ace\, um squeeze Ace\, também terá o direito\nde participar das 4 etapas da Copa Ace MTB 2023.O Kit será entregue até o dia\n22/02/2023. A não participação das etapas\, não acarreta na devolução do valor pago\nno Kit Ace Combo. \nAs inscrições poderão ser feitas pelo whatsapp 15 981406631\nart 19 – As categorias são (podem ser alteradas de acordo com a necessidade):\nMasculino – Junior (14 a 18 anos)\, Sub23(19 a 23 anos)\, Sub30(24 a 29 anos)\, Sub35\n(30 a 34 anos)\, Sub40 (35 a 39 anos)\, Sub45 (40 a 44 anos)\, Sub50 (45 a 49 anos)\,\nSub55 (50 a 54 anos)\, Over 55 (55 anos e acima).\nFeminino – F Sub30 (19 a 29 anos)\, F Sub35 (30 a 34 anos) \, F Sub40 (31 a 39 anos)\,\nF Sub50 (40 a 49 anos)\, F Over 50 (50 anos e acima).\nE-Bike\, PNE e Dupla Mista – Idade livre\nÉ possível participar em categorias diferentes em cada etapa\, por exemplo na categoria\npor idade em uma etapa e dupla mista em outra\, porém a pontuação conquistada não\nserá transferida.\nart 20 – Premiação de cada Etapa – serão premiados os 5 primeiros colocados de\ncada categoria.\nTodos os participantes que concluírem a etapa receberão uma medalha de\nparticipação..\nPremiação da Copa – Serão premiados o campeão\, vice campeão e 3º lugares de\ncada categoria da Copa\, e\, serão premiados na última etapa\, após a premiação da\netapa final.\nart 21 – Critério de pontuação – 1º lugar – 15 pontos\, 2º lugar – 13 pontos\, 3º lugar – 12\npontos\, 4º lugar – 11 pontos\, 5º lugar – 10 pontos – 6º lugar – 8 pontos\, 7º lugar – 7\npontos\, 8º lugar – 6 pontos\, 9º lugar – 5 pontos\, 10º lugar – 4 pontos\, 11º ao 20º lugar –\n3 pontos\, 21º lugar em diante 2 pontos. Participantes inscritos que não concluírem o\npercurso ou não largarem – 1 ponto.\nSerão ranqueados\, somente participantes em mais de uma etapa.\nart 22 – Percurso – será em vias públicas\, nas estradas de terra ou pedregulhos\,\npodendo haver trilhas fechadas\, obstáculos naturais\, aclives e declives. Em nenhum\nmomento estará fechada e haverá trânsito normal de veículos\, portanto as\nnormas/leis de trânsito deverão ser respeitadas.\nart 23 – Em caso de cancelamento da prova por motivos de força maior (morte\,\nacidente\, condições meteorológicas\, etc)\, os organizadores estarão isentos de\nqualquer tipo de indenização que não seja a devolução da taxa de inscrição desde que\no kit de inscrição não tenha sido retirado.\nart 24 – É responsabilidade de cada participante ter um convênio médico para a\nassistência e cobertura financeira em caso de acidente. As equipes de apoio da\norganização que trabalham no evento prestarão somente os primeiros socorros e\nencaminhamento do acidentado para um hospital mais próximo. A partir daí termina a\nresponsabilidade. Todas as despesas médico-hospitalares correrão por conta do biker\nacidentado. Todos participantes devidamente inscritos estarão cobertos por seguro\nacidente contratado pela organização.\nart 25 – A organização não se responsabiliza por objetos dos atletas esquecidos e/ou\ndeixados sob a responsabilidade dos Staffs ou qualquer outra pessoa relacionada ao\nevento.\nart 26 – A chegada oficial será na entrada no funil ao passar pela tenda de\ncronometragem. Desde a entrada no funil até o ponto de cronometragem não será\npermitida ultrapassagem\, salvo em orientação da organização.\nart 27 – O recebimento da medalha de participação\, se dará na devolução da plaqueta\nde numeração\, que será reutilizada na etapa seguinte.\nTermo de responsabilidade\nTodos os participantes ao se inscrever estão automaticamente concordando com\ntodas as regras acima.\nFicha médica\nTodos os participantes deverão preencher a Ficha médica para fins de emergência.\nEssa ficha será repassada a todos que confirmarem sua inscrição e deverá ser\npreenchida e encaminhada a organização. Não será permitida a participação sem a\nentrega dessa ficha.
URL:https://proximaprova.com.br/evento/copaace2023-etapa2/
LOCATION:HM RESORT SOROCABA\, Estr. Do Mato Dentro\, Sorocaba - SP\, BRIGADEIRO TOBIAS\, SÃO PAULO\, Brasil
ATTACH;FMTTYPE=image/jpeg:https://proximaprova.com.br/wp-content/uploads/2023/02/Banner-proxima-brova-2-etapa.jpg
END:VEVENT
BEGIN:VEVENT
DTSTART;TZID=America/Sao_Paulo:20230430T070000
DTEND;TZID=America/Sao_Paulo:20230430T150000
DTSTAMP:20260425T152016
CREATED:20230210T114539Z
LAST-MODIFIED:20230429T004015Z
UID:22127-1682838000-1682866800@proximaprova.com.br
SUMMARY:3º DESAFIO TWITTER DE MTB
DESCRIPTION:–> LISTA DE INSCRITOS <– \n>>> INSCRIÇÕES ENCERRADAS <<< \n3º DESAFIO TWITTER DE MTB\nEstá chegando mais um Desafio Twitter de MTB\, a 3ª edição do desafio que foi criado\npara você superar seus limites. De volta a cidade de Jarinu-SP\, com novos percursos desafiadores\nmas ao mesmo tempo é claro muito divertido. O Desafio acontecerá no dia 19/03/2023! \nO 3º Desafio Twitter de MTB contará com percursos de diferentes\nníveis de dificuldade\, para todos os participantes. Venha encarar esse Desafio\,\ne superar seus limites! \nSerá uma experiência incrível! \nMODALIDADE\nXCM – MARATONA \nVALOR DA INSCRIÇÃO\nPCD: R$60\nTodas as Categorias Feminina: R$100\nDemais Categorias: R$120 \nDupla Pro Masculino\nDupla Pro Mista\nDupla Sport Masculino\nDupla Sport Mista\n=\nPRO Idade Livre Feminino\nSport Sub 30 Feminino\nSport Over 30 Feminino\n=\nPRO Gravel Masculino\nPRO Sub 25 Masculino\nPRO Sub 30 Masculino\nPRO Sub 35 Masculino\nPRO Sub 40 Masculino\nPRO Sub 45 Masculino\nPRO Sub 50 Masculino\nPRO Sub 55 Masculino\n=\nSport Junior\nSport Sub 25 Masculino\nSport Sub 30 Masculino\nSport Sub 35 Masculino\nSport Sub 40 Masculino\nSport Sub 45 Masculino\nSport Sub 50 Masculino\nSport Sub 55 Masculino\nSport Over 55 Masculino \nSport PCD\nTurismo Masculino Idade Livre\nTurismo Feminino Idade Livre \n*** A BASE PARA DEFINIÇÃO DA CATEGORIA É A IDADE COMPLETA EM 31/12/2023 *** \nPREMIAÇÃO DA ETAPA\nOs cinco (5) primeiros colocados de cada categoria serão premiados com troféus e\ntodos os participantes receberão medalha de participação. \nPREMIAÇÃO DO CAMPEONATO \nEssa etapa contará com premiação para os campeões das gerais das ultimas 3 etapas.\nPara pontuar o Atleta competidor deve obrigatoriamente ter participado de pelo menos 2 etapas. \nPremiação aos líderes gerais das categorias Sport e Pro\, por somatória de pontos ao\nfinal da 3ª etapa) \nPRÓ (MASC / FEM)\n1º COLOCADO: R$ 700\n2º COLOCADO: R$ 500\n3º COLOCADO: R$300\n4º COLOCADO: R$250\n5º COLOCADO: R$100 \nSPORT (MASC / FEM)\n1º COLOCADO: R$ 400\n2º COLOCADO: R$ 300\n3º COLOCADO: R$200\n4º COLOCADO: R$100\n5º COLOCADO: R$80 \nA pontuação será definida da seguinte forma:\n1º colocado – 17 pontos.\n2º colocado – 15 pontos\n3º colocado – 13 pontos\n4º colocado– 11 pontos\n5º colocado – 9 pontos\n6º colocado – 7 pontos\n7º colocado – 5 pontos\n8º colocado – 3 pontos\n9º colocado – 2 pontos\n10º colocado – 1 ponto \nHavendo empate na pontuação na última etapa o critério de desempate será a melhor\nposição na última etapa do campeonato. \nSEGURO ATLETA\nTodos os atletas que participarem do evento estarão cobertos pelo seguro atleta que\nfoi contratado pela organização. \nPERCURSOS\nTurismo:\nDistancia: 20km\nElevação acumulada:530m \nSport:\nDistancia: 34km\nElevação acumulada:834m \nPro:\nDistancia: 53km\nElevação acumulada:1.220m \nPROGRAMAÇÃO\nProgramação\n07:00 – Entrega dos kits\n08:30 – Alinhamento de todas as categorias\n08:45 – Largada Pro\n09:00 – Largada Sport\n13:00 – Inicio da premiação\n15:00 – Encerramento do evento. \nLOCAL DO EVENTO:\nParque Municipal Orestes Lorencini.\nAv João\, R. Pedro Ferraz Barreto\, sn – Esplanada Do Carmo\, Jarinu – SP\, 13240-000 \nRESPONSABILIDADE SOCIAL: \nTraga um 1kg de alimento não perecível para retirada do Kit.\nToda arrecadação será destinada a entidades assistenciais e comunidades carentes do município. \nCONTATO\nFALE COM OS ORGANIZADORES\nWhatzApp: (11) 9 7059-4756 \nSIGA-NOS:\nInstagram: @desafiotwitter
URL:https://proximaprova.com.br/evento/3o-desafio-twitter-de-mtb/
LOCATION:Parque Orestes Lorencini – Jarinu/SP\, Av João\, R. Pedro Ferraz Barreto\, sn - Esplanada Do Carmo\, Jarinu - SP\, 13240-000\, Jarinu/SP\, São Paulo\, 13240-000
ATTACH;FMTTYPE=image/jpeg:https://proximaprova.com.br/wp-content/uploads/2023/02/Banner_1400x600_NovaData.jpg
END:VEVENT
END:VCALENDAR