BEGIN:VCALENDAR
VERSION:2.0
PRODID:-//Proxima Prova - ECPv6.15.13.1//NONSGML v1.0//EN
CALSCALE:GREGORIAN
METHOD:PUBLISH
X-WR-CALNAME:Proxima Prova
X-ORIGINAL-URL:https://proximaprova.com.br
X-WR-CALDESC:Eventos para Proxima Prova
REFRESH-INTERVAL;VALUE=DURATION:PT1H
X-Robots-Tag:noindex
X-PUBLISHED-TTL:PT1H
BEGIN:VTIMEZONE
TZID:America/Sao_Paulo
BEGIN:STANDARD
TZOFFSETFROM:-0300
TZOFFSETTO:-0300
TZNAME:-03
DTSTART:20220101T000000
END:STANDARD
END:VTIMEZONE
BEGIN:VEVENT
DTSTART;TZID=America/Sao_Paulo:20230618T080000
DTEND;TZID=America/Sao_Paulo:20230618T170000
DTSTAMP:20260425T121949
CREATED:20230309T113356Z
LAST-MODIFIED:20230615T130950Z
UID:22398-1687075200-1687107600@proximaprova.com.br
SUMMARY:Desafio dos Campeões - Kawaciclo
DESCRIPTION:>>> INSCRIÇÕES ENCERRADAS <<< \nLISTA DE INSCRITOS \n1° Desafio dos campeões Kawaciclo de MTB \nUm evento repleto de experiências que vai muito além da competição de bike. Adrenalina\, superação de limites\, atletas renomados\, tudo isso faz parte desse grandioso evento que também contará com:   \n\nShow ao vivo DJ e banda\nCafé da manhã para todos os atletas\nFoto do trajeto para todo os Participantes\nPremiação em dinheiro para 5 na geral\nSorteio de uma bicicleta para inscritos\nSorteio de uma drone para as equipe que tiver + de 5 atletas\nCarro e moto de apoio todo trajeto\n\nTudo isso foi pensando para proporcionar a você atleta um espetáculo\, sem contar com o circuito da prova que além de lindo é desafiador. \nValor da Inscrição\nR$70\,00 – Todas as categorias \nLocal do Evento\nSilcol Eco Pousada – Estr. da Ponte Alta\, 5005 – Eng. Marsilac\, São Paulo – SP\, 04891-270 \nModalidade de Prova\n• XCM – Maratona \nCategorias \nSport – Percurso Menor \n\nMasculino Junior (15 até 18 anos)\nMasculino Sub 25 (19 até 24 anos)\nMasculino Sub 30 (25 até 29 anos)\nMasculino Sub 35 (30 até 34 anos)\nMasculino Sub 40 (35 até 39 anos)\nMasculino Sub 45 (40 até 44 anos)\nMasculino Sub 50 (45 até 49 anos)\nMasculino Sub 55 (50 até 54 anos)\nMasculino Over 55 (Acima de 55 anos)\nFeminino Sub 30 (Menos de 30 anos)\nFeminino Over 30 (30 anos ou mais)\nDupla Mista\n\nPro – Percurso Maior \n\nMasculino Sub 25 (19 até 24 anos)\nMasculino Sub 30 (25 até 29 anos)\nMasculino Sub 35 (30 até 34 anos)\nMasculino Sub 40 (35 até 39 anos)\nMasculino Sub 45 (40 até 44 anos)\nMasculino Sub 50 (45 até 49 anos)\nMasculino Sub 55 (50 até 54 anos)\nFeminino (Idade Livre)\nDupla Masculina\n\nSeguro Atleta\nTodos os atletas que participarem do evento estarão cobertos pelo seguro atleta que foi contratado pela\norganização. \nPremiação\n• Os cinco(5) primeiros colocados de cada categoria serão premiados com troféus e todos os participantes receberão\nmedalha de participação.\n5 na gerais premiação em dinheiro \nPercurso \n\nPro 63\nSport 32\nFun 19\n\n \nProgramação\n• 07:00 – Entrega dos kits\n• 08:30 – Alinhamento de todas as categorias\n• 09:00 – Largada\n• 13:00 – Inicio da premiação\n• 17:00 – Encerramento do evento.
URL:https://proximaprova.com.br/evento/desafio-dos-campeoes-kawaciclo/
LOCATION:Silcol Eco Pousada\, Estr. da Ponte Alta\, 5005 - Eng. Marsilac\, São Paulo - SP\, 04891-270\, São Paulo\, São Paulo\, 04891-270\, Brasil
ATTACH;FMTTYPE=image/png:https://proximaprova.com.br/wp-content/uploads/2023/03/2804-2.png
END:VEVENT
BEGIN:VEVENT
DTSTART;TZID=America/Sao_Paulo:20230618T080000
DTEND;TZID=America/Sao_Paulo:20230618T170000
DTSTAMP:20260425T121949
CREATED:20230406T174204Z
LAST-MODIFIED:20230616T122213Z
UID:22531-1687075200-1687107600@proximaprova.com.br
SUMMARY:Copa ACE - Etapa 3
DESCRIPTION:INSCRIÇÕES ENCERRADAS PELO SITE  \nMAS AINDA É POSSÍVEL SE INSCRIVER PELO WHATSAPP –> 15-99814-06631 \nLISTA DE INSCRITOS \nRegulamento Copa ACE de Mountain Bike 2023\nart 1 – Poderão participar da Copa todos os atletas devidamente inscritos.\nart 2 – É ato de desclassificação da Copa: informações falsas na hora da inscrição\,\ncortar caminho ou agir de má fé contra os outros atletas\, segurar ou atrapalhar atletas\nde outras equipes em prol da equipe.\nÉ EXPRESSAMENTE proibido fazer “pace” de qualquer forma\, ou qualquer ajuda extra\nque gere vantagem sobre demais participantes\, estando ou não inscrito na etapa.\nSalvo na Categoria Dupla Mista\, onde um membro da dupla pode auxiliar o outro\n“empurrando” e ainda assim\, sem nenhum artefato a não ser o próprio braço.\nart 3 – Não acatar qualquer decisão\, tumultuar\, e desrespeitar qualquer membro da\norganização. Qualquer dessas penalizações resulta em perca de pontos até expulsão\nda Copa e punição em 6 meses em qualquer evento promovido pela Ace Oficina Bike\nShop / Bike Aventura.art 4 – Obrigatório o uso de bicicletas de estilo mountain bike\, capacete;\nart 5 – Em caso de empate de pontuação\, o 1º critério para desempate é o maior\nnúmero de etapas disputadas na Copa\, e o 2º critério\, a melhor colocação na última\netapa.\nart 6 – Não é permitida a troca de bicicletas durante o percurso em caso de quebra de\nequipamento.\nart 7 – A data base para cálculo da categoria é idade completa no dia 31 de Dezembro\nde 2023.\nart 8 – Obrigatório subir ao pódio com o uniforme. É proibido subir ao pódio atletas sem\ncamisa\, descalço\, ou com animais;\nCaso o atleta não esteja presente durante a premiação na Etapa\, um membro da\nequipe poderá receber a premiação em seu lugar. A organização não fará nenhum tipo\nde entrega após a premiação.\nart 9 – Só serão premiados ao final da Copa os atletas que estiverem presentes na\nEtapa.\nart 10 – O atleta que participar de todas as etapas\, receberá os 5 pontos de\nbonificação.\nart 11 – É proibido o tráfego de carro/moto de apoio de atletas durante o percurso. É\npermitido somente o tráfego atrás da ambulância e carro de apoio da organização do\nevento\, ou seja atrás do último competidor.\nart 12 – É proibido o uso de guidão com clipe.\nart 13 – Os atletas INSCRITOS que não completarem o percurso ou não largarem\,\nsomarão apenas 1 (um) ponto no evento.\nart 14 – Só serão aceitos recursos com no prazo máximo de 48h do encerramento da\netapa.\nart 15 – As inscrições encerram-se sempre 4 dias antes da data de cada etapa. A\ndesistência de participação deverá ser informada até 7 dias antes da etapa\, para que\nhaja reembolso integral desde que o kit inscrição não tenha sido retirado. A inscrição\npoderá ser remanejada para etapa seguinte\, e se remanejada uma vez\, não haverá\npossibilidade de novo remanejamento\, nem desistência\, mesmo que dentro do prazo\npermitido.\nart 16 – a inscrição só será confirmada após a confirmação de pagamento e dará\ndireito a participação e concorrer a premiação anunciada.\nart 17 – kit de inscrição – todos os inscritos receberão um kit de inscrição contendo\numa camiseta disponível no estoque\, uma placa de identificação.\nInscrições limitadas a 250 vagas por etapa.\nart 18 – tabela de valores e prazos:\nEtapa 1 – dia 26/02/2023: 1º lote R$89\,00 de 01/01/2023 até dia 10/02/2023\n2º lote R$99\,00 de 11/02/2023 até 22/02/2023 ou restante das vagas.\nEtapa 2 – dia 02/04/2023: 1º lote R$89\,00 de 27/02/2023 até dia 15/03/2023\n2º lote R$99\,00 de 16/03/2023 até 29/03/2023 ou restante das vagas.\nEtapa 3 – dia 18/06/2023: 1º lote R$89\,00 de 03/04/2023 até dia 31/05/2023\n2º lote R$99\,00 de 01/06/2023 até 14/06/2023 ou restante das vagas.\nEtapa 4 – dia 20/08/2023: 1º lote R$89\,00 de 19/06/2023 até dia 31/07/2023\n2º lote R$99\,00 de 01/08/2023 até 16/08/2023 ou restante das vagas. \nKIT ACE COMBO – de 01/01/2023 até 22/02/2023 – R$315\,00. Na compra do Kit Ace\nCombo\, contendo um boné\, uma camiseta Ace\, um squeeze Ace\, também terá o direito\nde participar das 4 etapas da Copa Ace MTB 2023.O Kit será entregue até o dia\n22/02/2023. A não participação das etapas\, não acarreta na devolução do valor pago\nno Kit Ace Combo. \nAs inscrições poderão ser feitas pelo whatsapp 15 981406631\nart 19 – As categorias são (podem ser alteradas de acordo com a necessidade):\nMasculino – Junior (14 a 18 anos)\, Sub23(19 a 23 anos)\, Sub30(24 a 29 anos)\, Sub35\n(30 a 34 anos)\, Sub40 (35 a 39 anos)\, Sub45 (40 a 44 anos)\, Sub50 (45 a 49 anos)\,\nSub55 (50 a 54 anos)\, Over 55 (55 anos e acima).\nFeminino – F Sub30 (19 a 29 anos)\, F Sub35 (30 a 34 anos) \, F Sub40 (31 a 39 anos)\,\nF Sub50 (40 a 49 anos)\, F Over 50 (50 anos e acima).\nE-Bike\, PNE e Dupla Mista – Idade livre\nÉ possível participar em categorias diferentes em cada etapa\, por exemplo na categoria\npor idade em uma etapa e dupla mista em outra\, porém a pontuação conquistada não\nserá transferida.\nart 20 – Premiação de cada Etapa – serão premiados os 5 primeiros colocados de\ncada categoria.\nTodos os participantes que concluírem a etapa receberão uma medalha de\nparticipação..\nPremiação da Copa – Serão premiados o campeão\, vice campeão e 3º lugares de\ncada categoria da Copa\, e\, serão premiados na última etapa\, após a premiação da\netapa final.\nart 21 – Critério de pontuação – 1º lugar – 15 pontos\, 2º lugar – 13 pontos\, 3º lugar – 12\npontos\, 4º lugar – 11 pontos\, 5º lugar – 10 pontos – 6º lugar – 8 pontos\, 7º lugar – 7\npontos\, 8º lugar – 6 pontos\, 9º lugar – 5 pontos\, 10º lugar – 4 pontos\, 11º ao 20º lugar –\n3 pontos\, 21º lugar em diante 2 pontos. Participantes inscritos que não concluírem o\npercurso ou não largarem – 1 ponto.\nSerão ranqueados\, somente participantes em mais de uma etapa.\nart 22 – Percurso – será em vias públicas\, nas estradas de terra ou pedregulhos\,\npodendo haver trilhas fechadas\, obstáculos naturais\, aclives e declives. Em nenhum\nmomento estará fechada e haverá trânsito normal de veículos\, portanto as\nnormas/leis de trânsito deverão ser respeitadas.\nart 23 – Em caso de cancelamento da prova por motivos de força maior (morte\,\nacidente\, condições meteorológicas\, etc)\, os organizadores estarão isentos de\nqualquer tipo de indenização que não seja a devolução da taxa de inscrição desde que\no kit de inscrição não tenha sido retirado.\nart 24 – É responsabilidade de cada participante ter um convênio médico para a\nassistência e cobertura financeira em caso de acidente. As equipes de apoio da\norganização que trabalham no evento prestarão somente os primeiros socorros e\nencaminhamento do acidentado para um hospital mais próximo. A partir daí termina a\nresponsabilidade. Todas as despesas médico-hospitalares correrão por conta do biker\nacidentado. Todos participantes devidamente inscritos estarão cobertos por seguro\nacidente contratado pela organização.\nart 25 – A organização não se responsabiliza por objetos dos atletas esquecidos e/ou\ndeixados sob a responsabilidade dos Staffs ou qualquer outra pessoa relacionada ao\nevento.\nart 26 – A chegada oficial será na entrada no funil ao passar pela tenda de\ncronometragem. Desde a entrada no funil até o ponto de cronometragem não será\npermitida ultrapassagem\, salvo em orientação da organização.\nart 27 – O recebimento da medalha de participação\, se dará na devolução da plaqueta\nde numeração\, que será reutilizada na etapa seguinte.\nTermo de responsabilidade\nTodos os participantes ao se inscrever estão automaticamente concordando com\ntodas as regras acima.\nFicha médica\nTodos os participantes deverão preencher a Ficha médica para fins de emergência.\nEssa ficha será repassada a todos que confirmarem sua inscrição e deverá ser\npreenchida e encaminhada a organização. Não será permitida a participação sem a\nentrega dessa ficha.
URL:https://proximaprova.com.br/evento/copa-ace-etapa-3/
LOCATION:THOR BIKE PARK\, Estrada do Capanema\, Araçoiaba da Serra - SP\, São Paulo\, 18190-000\, Brasil
ATTACH;FMTTYPE=image/png:https://proximaprova.com.br/wp-content/uploads/2023/04/Banner_WEB-3a-Etapa-Copa-Ace-MTB1.png
END:VEVENT
END:VCALENDAR