BEGIN:VCALENDAR
VERSION:2.0
PRODID:-//Proxima Prova - ECPv6.15.13.1//NONSGML v1.0//EN
CALSCALE:GREGORIAN
METHOD:PUBLISH
X-ORIGINAL-URL:https://proximaprova.com.br
X-WR-CALDESC:Eventos para Proxima Prova
REFRESH-INTERVAL;VALUE=DURATION:PT1H
X-Robots-Tag:noindex
X-PUBLISHED-TTL:PT1H
BEGIN:VTIMEZONE
TZID:America/Sao_Paulo
BEGIN:STANDARD
TZOFFSETFROM:-0300
TZOFFSETTO:-0300
TZNAME:-03
DTSTART:20220101T000000
END:STANDARD
END:VTIMEZONE
BEGIN:VEVENT
DTSTART;TZID=America/Sao_Paulo:20230903T080000
DTEND;TZID=America/Sao_Paulo:20230903T170000
DTSTAMP:20260425T075310
CREATED:20230608T222014Z
LAST-MODIFIED:20230901T151209Z
UID:23127-1693728000-1693760400@proximaprova.com.br
SUMMARY:Copa ABV 2023
DESCRIPTION:>>> INSCRIÇÕES ENCERRADAS <<< \nLISTA DE INSCRITOS \nCopa ABV 2023 \nPreparem-se para enfrentar uma emocionante competição de Mountain Bike organizada pelo time da Copa ABV! É com grande satisfação que convidamos todos os atletas de coração valente e pedal afiado para participarem desta incrível prova\, que promete desafios e diversão em meio à bela paisagem rural do distrito de Cipo Guaçu\, especificamente no Rancho Dom de Minas. \nA Copa ABV oferece duas opções de percurso para você mostrar toda a sua habilidade sobre as trilhas: o percurso PRO de 50km e o percurso Sport de 35km. Ambos os trajetos proporcionam uma experiência imersiva em meio à natureza\, com desafios técnicos e visuais deslumbrantes. Venha sentir a adrenalina pulsar em cada curva e cada subida! \nA largada para a categoria PRO está marcada para as 9:00 em ponto\, então estejam preparados para mostrar sua força e velocidade. Logo em seguida\, às 9:30\, será dada a largada para a categoria Sport. Não percam o horário\, pois queremos todos os participantes unidos nessa aventura sobre duas rodas. \nE não poderíamos deixar de mencionar um mimo especial para os competidores: no dia do evento\, a piscina estará disponível gratuitamente para todos. Após a prova\, nada melhor do que um mergulho revigorante para relaxar e recuperar as energias. \nE agora\, a cereja do bolo: a premiação! Para os três primeiros colocados da categoria geral da PRO\, temos uma premiação em dinheiro bastante atrativa. O primeiro colocado receberá R$ 500\,00\, o segundo colocado ficará com R$ 300\,00 e o terceiro colocado levará para casa R$ 200\,00. É uma ótima oportunidade de competir e ser recompensado pelos seus esforços. \nAlém disso\, para os primeiros colocados de cada categoria por idade que correrem na modalidade PRO\, também teremos premiação em dinheiro. Portanto\, não deixem de se inscrever na categoria adequada e lutar pelo pódio e pelo prêmio em cada faixa etária. \nA Copa ABV de Mountain Bike promete ser um evento inesquecível\, repleto de desafios\, diversão e camaradagem entre os participantes. Preparem-se para uma jornada épica sobre as trilhas da área rural de Cipo Guaçu! \nNão percam essa oportunidade! Inscrevam-se agora mesmo e estejam prontos para escrever seu nome na história do ciclismo. Contamos com a presença de todos vocês para tornar a Copa ABV um sucesso! Pedalem com paixão\, superem seus limites e vivam a emoção do mountain bike! \n🚵‍♀️🚵‍♂️ Vamos juntos conquistar a vitória na Copa ABV! 🏆 \nValor da Inscrição \nR$70\,00 – Todas as categorias\, exceto PCD (Gratuito) \nLocal do Evento\nRancho Dom de Minas\n(11) 97426-8615\nhttps://maps.app.goo.gl/iLobf9GoH6FEuPTi8?g_st=iw \nModalidade de Prova\n• XCM – Maratona \nCategorias \nFun – 20km \n\nMasculino – Idade Livre\nFeminino – Idade Livre\n\nSport – 35km \n\nMasculino Junior (15 até 18 anos)\nMasculino Sub 25 (19 até 24 anos)\nMasculino Sub 30 (25 até 29 anos)\nMasculino Sub 35 (30 até 34 anos)\nMasculino Sub 40 (35 até 39 anos)\nMasculino Sub 45 (40 até 44 anos)\nMasculino Sub 50 (45 até 49 anos)\nMasculino Sub 55 (50 até 54 anos)\nMasculino Over 55 (Acima de 55 anos)\nFeminino (Idade Livre)\nHeavy Biker  (Acima de 90 kg)\nDupla Mista\n\nPro – 50km \n\nMasculino Sub 25 (19 até 24 anos)\nMasculino Sub 30 (25 até 29 anos)\nMasculino Sub 35 (30 até 34 anos)\nMasculino Sub 40 (35 até 39 anos)\nMasculino Sub 45 (40 até 44 anos)\nMasculino Sub 50 (45 até 49 anos)\nMasculino Sub 55 (50 até 54 anos)\nFeminino (Idade Livre)\nDupla Masculina\n\nSeguro Atleta\nTodos os atletas que participarem do evento estarão cobertos pelo seguro atleta que foi contratado pela\norganização. \nPremiação \n\nOs cinco(5) primeiros colocados de cada categoria serão premiados com troféus e todos os participantes receberão\nmedalha de participação.\nPremiação em dinheiro\n\n1º Geral PRO – R$ 500\,00\n2º Geral PRO – R$ 300\,00\n3º Geral PRO – R$ 200\,00\n1º Colocado de cada categoria PRO por idade – R$ 100\,00\n\n\n\nPercurso \n\nPro 50 km\n\nhttps://strava.app.link/wHKEGyi5tBb\n\n\nFun 20 km\n\nhttps://www.strava.com/routes/3118970592740594108\n\n\nSport 35 km\n\nhttps://www.strava.com/routes/3128874926689198298\n\n\n\nProgramação \n\n07:00 – Entrega dos kits\n08:30 – Alinhamento de todas as categorias\n09:00 – Largada PRO\n09:30 – Largada SPORT\n09:15 – Largada Fun\n13:00 – Premiação\n\nApoio \n    \n       \n 
URL:https://proximaprova.com.br/evento/copa-abv-2023/
LOCATION:Rancho Dom de Minas\, Estr. A\, 346 - Travessa da\, R. Benedito Schunck\, 2020 - Chacara Santo Hubertus\, São Paulo - SP\, 04893-050\, Cipo Guaçu\, São Paulo\, 04893-050\, Brasil
ATTACH;FMTTYPE=image/png:https://proximaprova.com.br/wp-content/uploads/2023/06/Copa-ABV.png
END:VEVENT
END:VCALENDAR